BEGIN:VCALENDAR
VERSION:2.0
PRODID:-//The Brixton Society - ECPv6.15.20//NONSGML v1.0//EN
CALSCALE:GREGORIAN
METHOD:PUBLISH
X-ORIGINAL-URL:https://www.brixtonsociety.org.uk
X-WR-CALDESC:Events for The Brixton Society
REFRESH-INTERVAL;VALUE=DURATION:PT1H
X-Robots-Tag:noindex
X-PUBLISHED-TTL:PT1H
BEGIN:VTIMEZONE
TZID:Europe/London
BEGIN:DAYLIGHT
TZOFFSETFROM:+0000
TZOFFSETTO:+0100
TZNAME:BST
DTSTART:20240331T010000
END:DAYLIGHT
BEGIN:STANDARD
TZOFFSETFROM:+0100
TZOFFSETTO:+0000
TZNAME:GMT
DTSTART:20241027T010000
END:STANDARD
BEGIN:DAYLIGHT
TZOFFSETFROM:+0000
TZOFFSETTO:+0100
TZNAME:BST
DTSTART:20250330T010000
END:DAYLIGHT
BEGIN:STANDARD
TZOFFSETFROM:+0100
TZOFFSETTO:+0000
TZNAME:GMT
DTSTART:20251026T010000
END:STANDARD
BEGIN:DAYLIGHT
TZOFFSETFROM:+0000
TZOFFSETTO:+0100
TZNAME:BST
DTSTART:20260329T010000
END:DAYLIGHT
BEGIN:STANDARD
TZOFFSETFROM:+0100
TZOFFSETTO:+0000
TZNAME:GMT
DTSTART:20261025T010000
END:STANDARD
END:VTIMEZONE
BEGIN:VEVENT
DTSTART;TZID=Europe/London:20250619T181500
DTEND;TZID=Europe/London:20250619T194500
DTSTAMP:20260422T192549
CREATED:20250430T142125Z
LAST-MODIFIED:20250606T085313Z
UID:3726-1750356900-1750362300@www.brixtonsociety.org.uk
SUMMARY:Railton Road: Lifeline of Brixton and Beyond
DESCRIPTION:RAILTON ROAD: LIFELINE OF BRIXTON AND BEYOND \nA Brixton Society talk by Nikky Catto\, based on research and first hand accounts from people who have lived and worked on and around Railton Road over the last 70 years. \nOur speaker for this Brixton Society talk about Railton Road is Nikky Catto. Nikky grew up in Belfast and planned to move to London for year. She fell in love with Lambeth instantly and has lived here for 25 years.  She is a former Chair of Brixton Advice Centre which brought about her interest in exploring the history of Railton Road. She also a qualified Lambeth Tour Guide\, a writer and runs the popular Instagram account @southlondontoday. \nJoin us and Nikky\, at Brixton Library\,  as she shares stories of one of the most influential and interesting roads in London in an evening part family album\, part social history. \nCome and share your stories and memories of Railton Road too. \nRefreshments from 6.15pm. Talk 6.30pm. \nFree but donations welcome towards Brixton Societys work including the costs of room hire for talks. Booking essential through Eventbrite here
URL:https://www.brixtonsociety.org.uk/event/railton-road-lifeline-of-brixton-and-beyond/
LOCATION:Brixton Tate Library\, Windrush Square\, London\, SW2 1JQ\, United Kingdom
CATEGORIES:History talk
END:VEVENT
END:VCALENDAR