BEGIN:VCALENDAR
VERSION:2.0
PRODID:-//The Brixton Society - ECPv6.15.20//NONSGML v1.0//EN
CALSCALE:GREGORIAN
METHOD:PUBLISH
X-WR-CALNAME:The Brixton Society
X-ORIGINAL-URL:https://www.brixtonsociety.org.uk
X-WR-CALDESC:Events for The Brixton Society
REFRESH-INTERVAL;VALUE=DURATION:PT1H
X-Robots-Tag:noindex
X-PUBLISHED-TTL:PT1H
BEGIN:VTIMEZONE
TZID:Europe/London
BEGIN:DAYLIGHT
TZOFFSETFROM:+0000
TZOFFSETTO:+0100
TZNAME:BST
DTSTART:20240331T010000
END:DAYLIGHT
BEGIN:STANDARD
TZOFFSETFROM:+0100
TZOFFSETTO:+0000
TZNAME:GMT
DTSTART:20241027T010000
END:STANDARD
BEGIN:DAYLIGHT
TZOFFSETFROM:+0000
TZOFFSETTO:+0100
TZNAME:BST
DTSTART:20250330T010000
END:DAYLIGHT
BEGIN:STANDARD
TZOFFSETFROM:+0100
TZOFFSETTO:+0000
TZNAME:GMT
DTSTART:20251026T010000
END:STANDARD
BEGIN:DAYLIGHT
TZOFFSETFROM:+0000
TZOFFSETTO:+0100
TZNAME:BST
DTSTART:20260329T010000
END:DAYLIGHT
BEGIN:STANDARD
TZOFFSETFROM:+0100
TZOFFSETTO:+0000
TZNAME:GMT
DTSTART:20261025T010000
END:STANDARD
END:VTIMEZONE
BEGIN:VEVENT
DTSTART;TZID=Europe/London:20250911T181500
DTEND;TZID=Europe/London:20250911T194500
DTSTAMP:20260422T143314
CREATED:20250624T102011Z
LAST-MODIFIED:20250624T102011Z
UID:3778-1757614500-1757619900@www.brixtonsociety.org.uk
SUMMARY:200 years of the Waterloo Commissioner's Classics
DESCRIPTION:The flurry of church building in the 1820’s funded by state commission and private donation left us with an unusual legacy of Greek style classical buildings around Lambeth. Nicholas Weedon of the Brixton Society looks at the personalities responsible for this and gives a behind the scenes look at how the architecture is faring today. Refreshments available from 6-6.15\, talk will start at 6.30. \nTickets free but donations to help fund the Brixton Society’s work\, including hosting talks like these\, very much appreciated. Reg Charity 1058103 \nBooking essential through eventbrite here
URL:https://www.brixtonsociety.org.uk/event/200-years-of-the-waterloo-commissioners-classics/
LOCATION:Brixton Tate Library\, Windrush Square\, London\, SW2 1JQ\, United Kingdom
CATEGORIES:History talk
END:VEVENT
END:VCALENDAR