BEGIN:VCALENDAR
VERSION:2.0
PRODID:-//The Brixton Society - ECPv6.15.20//NONSGML v1.0//EN
CALSCALE:GREGORIAN
METHOD:PUBLISH
X-WR-CALNAME:The Brixton Society
X-ORIGINAL-URL:https://www.brixtonsociety.org.uk
X-WR-CALDESC:Events for The Brixton Society
REFRESH-INTERVAL;VALUE=DURATION:PT1H
X-Robots-Tag:noindex
X-PUBLISHED-TTL:PT1H
BEGIN:VTIMEZONE
TZID:Europe/London
BEGIN:DAYLIGHT
TZOFFSETFROM:+0000
TZOFFSETTO:+0100
TZNAME:BST
DTSTART:20180325T010000
END:DAYLIGHT
BEGIN:STANDARD
TZOFFSETFROM:+0100
TZOFFSETTO:+0000
TZNAME:GMT
DTSTART:20181028T010000
END:STANDARD
BEGIN:DAYLIGHT
TZOFFSETFROM:+0000
TZOFFSETTO:+0100
TZNAME:BST
DTSTART:20190331T010000
END:DAYLIGHT
BEGIN:STANDARD
TZOFFSETFROM:+0100
TZOFFSETTO:+0000
TZNAME:GMT
DTSTART:20191027T010000
END:STANDARD
BEGIN:DAYLIGHT
TZOFFSETFROM:+0000
TZOFFSETTO:+0100
TZNAME:BST
DTSTART:20200329T010000
END:DAYLIGHT
BEGIN:STANDARD
TZOFFSETFROM:+0100
TZOFFSETTO:+0000
TZNAME:GMT
DTSTART:20201025T010000
END:STANDARD
END:VTIMEZONE
BEGIN:VEVENT
DTSTART;TZID=Europe/London:20190215T184500
DTEND;TZID=Europe/London:20190215T203000
DTSTAMP:20260426T042646
CREATED:20190122T103942Z
LAST-MODIFIED:20190122T104443Z
UID:1366-1550256300-1550262600@www.brixtonsociety.org.uk
SUMMARY:Loughborough Road – Shops\, Pubs & People
DESCRIPTION:Who were the people that ran the shops and pubs on Loughborough Road? And who were their customers? LEAF Tenants and Residents Association neighbours have been delving into archives and talking to friends and family about their memories of the street.\nWe are sharing some highlights of what we’ve found using pictures\, maps and stories people have told us. Come and join us: please book a FREE place on leaftra@gmail.com.
URL:https://www.brixtonsociety.org.uk/event/loughborough-road-shops-pubs-people/
CATEGORIES:Open meeting
ORGANIZER;CN="LEAF TRA":MAILTO:leaftra@gmail.com
END:VEVENT
BEGIN:VEVENT
DTSTART;TZID=Europe/London:20190225T184500
DTEND;TZID=Europe/London:20190225T200000
DTSTAMP:20260426T042646
CREATED:20190221T161139Z
LAST-MODIFIED:20190221T161139Z
UID:1558-1551120300-1551124800@www.brixtonsociety.org.uk
SUMMARY:Layers of London Workshop
DESCRIPTION:Learn about the Layers of London digital history map of London: a wonderful free resource for anyone interested in London’s history and to which you can pin your stories.
URL:https://www.brixtonsociety.org.uk/event/layers-of-london-workshop/
LOCATION:Brixton Tate Library\, Windrush Square\, London\, SW2 1JQ\, United Kingdom
CATEGORIES:Open meeting
END:VEVENT
BEGIN:VEVENT
DTSTART;TZID=Europe/London:20190227T190000
DTEND;TZID=Europe/London:20190227T210000
DTSTAMP:20260426T042646
CREATED:20190221T161809Z
LAST-MODIFIED:20190221T161809Z
UID:1560-1551294000-1551301200@www.brixtonsociety.org.uk
SUMMARY:Higgs Estate Redevelopment
DESCRIPTION:The proposed development of the Higgs industrial estate\, Loughborough Junction could have widespread impacts. Find out more and put your views at a meeting at the Grove Adventure Playground.
URL:https://www.brixtonsociety.org.uk/event/higgs-estate-redevelopment/
LOCATION:Grove Adventure Playground\, 18 Gordon Avenue\, London\, SE5 9DT\, United Kingdom
CATEGORIES:Open meeting
END:VEVENT
END:VCALENDAR