BEGIN:VCALENDAR
VERSION:2.0
PRODID:-//The Brixton Society - ECPv6.15.20//NONSGML v1.0//EN
CALSCALE:GREGORIAN
METHOD:PUBLISH
X-WR-CALNAME:The Brixton Society
X-ORIGINAL-URL:https://www.brixtonsociety.org.uk
X-WR-CALDESC:Events for The Brixton Society
REFRESH-INTERVAL;VALUE=DURATION:PT1H
X-Robots-Tag:noindex
X-PUBLISHED-TTL:PT1H
BEGIN:VTIMEZONE
TZID:Europe/London
BEGIN:DAYLIGHT
TZOFFSETFROM:+0000
TZOFFSETTO:+0100
TZNAME:BST
DTSTART:20180325T010000
END:DAYLIGHT
BEGIN:STANDARD
TZOFFSETFROM:+0100
TZOFFSETTO:+0000
TZNAME:GMT
DTSTART:20181028T010000
END:STANDARD
BEGIN:DAYLIGHT
TZOFFSETFROM:+0000
TZOFFSETTO:+0100
TZNAME:BST
DTSTART:20190331T010000
END:DAYLIGHT
BEGIN:STANDARD
TZOFFSETFROM:+0100
TZOFFSETTO:+0000
TZNAME:GMT
DTSTART:20191027T010000
END:STANDARD
BEGIN:DAYLIGHT
TZOFFSETFROM:+0000
TZOFFSETTO:+0100
TZNAME:BST
DTSTART:20200329T010000
END:DAYLIGHT
BEGIN:STANDARD
TZOFFSETFROM:+0100
TZOFFSETTO:+0000
TZNAME:GMT
DTSTART:20201025T010000
END:STANDARD
END:VTIMEZONE
BEGIN:VEVENT
DTSTART;TZID=Europe/London:20190912T190000
DTEND;TZID=Europe/London:20190912T210000
DTSTAMP:20260425T162912
CREATED:20190114T114619Z
LAST-MODIFIED:20190619T145940Z
UID:1355-1568314800-1568322000@www.brixtonsociety.org.uk
SUMMARY:Talk: Markets\, Megastructures and Motorways - Exploring the 1969 Brixton Plan
DESCRIPTION:50 years ago\, plans were drawn up to demolish the centre of Brixton and replace it with new multi-level megastructures connected to clusters of 50-storey residential towers. The plans were ambitious\, and well-illustrated.\nIn this talk from Nicholas Weedon we take a trip through this brazenly optimistic vision\, hear how it came about\, how it vanished\, and consequences from it that remain today.\nThere will be free light refreshments.
URL:https://www.brixtonsociety.org.uk/event/brixton-society-open-meeting/
LOCATION:Vida Walsh Centre\, 2b Saltoun Road\, Brixton\, London\, SW2 1EP\, United Kingdom
CATEGORIES:Open meeting
ATTACH;FMTTYPE=image/jpeg:https://www.brixtonsociety.org.uk/test-site/wp-content/uploads/2019/06/MotorwayModel.jpg
END:VEVENT
END:VCALENDAR