BEGIN:VCALENDAR
VERSION:2.0
PRODID:-//The Brixton Society - ECPv6.15.20//NONSGML v1.0//EN
CALSCALE:GREGORIAN
METHOD:PUBLISH
X-WR-CALNAME:The Brixton Society
X-ORIGINAL-URL:https://www.brixtonsociety.org.uk
X-WR-CALDESC:Events for The Brixton Society
REFRESH-INTERVAL;VALUE=DURATION:PT1H
X-Robots-Tag:noindex
X-PUBLISHED-TTL:PT1H
BEGIN:VTIMEZONE
TZID:Europe/London
BEGIN:DAYLIGHT
TZOFFSETFROM:+0000
TZOFFSETTO:+0100
TZNAME:BST
DTSTART:20200329T010000
END:DAYLIGHT
BEGIN:STANDARD
TZOFFSETFROM:+0100
TZOFFSETTO:+0000
TZNAME:GMT
DTSTART:20201025T010000
END:STANDARD
BEGIN:DAYLIGHT
TZOFFSETFROM:+0000
TZOFFSETTO:+0100
TZNAME:BST
DTSTART:20210328T010000
END:DAYLIGHT
BEGIN:STANDARD
TZOFFSETFROM:+0100
TZOFFSETTO:+0000
TZNAME:GMT
DTSTART:20211031T010000
END:STANDARD
BEGIN:DAYLIGHT
TZOFFSETFROM:+0000
TZOFFSETTO:+0100
TZNAME:BST
DTSTART:20220327T010000
END:DAYLIGHT
BEGIN:STANDARD
TZOFFSETFROM:+0100
TZOFFSETTO:+0000
TZNAME:GMT
DTSTART:20221030T010000
END:STANDARD
END:VTIMEZONE
BEGIN:VEVENT
DTSTART;TZID=Europe/London:20210902T180000
DTEND;TZID=Europe/London:20210902T200000
DTSTAMP:20260423T235618
CREATED:20210825T175423Z
LAST-MODIFIED:20210825T175423Z
UID:2706-1630605600-1630612800@www.brixtonsociety.org.uk
SUMMARY:Local Heroes Craft-Connections Banner
DESCRIPTION:Inspired by the Local Heroes initiative\, the 17 individually made textile squares of the Local Heroes  banner were made during Covid lockdowns by the Brixton Library craft group. For this event\, hosted by Friends of Tate Library Brixton\, Marilyn Rogers\, Annick Alet\, Rachel Heywood and Cecilia Washburn will present the making and meaning of the banner\, which will then go on to be displayed in local venues. \nThis event is hosted by Friends of Tate Brixton Library. You must book as spaces are limited. Book here
URL:https://www.brixtonsociety.org.uk/event/local-heroes-craft-connections-banner/
LOCATION:Brixton Tate Library\, Windrush Square\, London\, SW2 1JQ\, United Kingdom
CATEGORIES:Open meeting,Tate Library
END:VEVENT
END:VCALENDAR