BEGIN:VCALENDAR
VERSION:2.0
PRODID:-//The Brixton Society - ECPv6.15.20//NONSGML v1.0//EN
CALSCALE:GREGORIAN
METHOD:PUBLISH
X-ORIGINAL-URL:https://www.brixtonsociety.org.uk
X-WR-CALDESC:Events for The Brixton Society
REFRESH-INTERVAL;VALUE=DURATION:PT1H
X-Robots-Tag:noindex
X-PUBLISHED-TTL:PT1H
BEGIN:VTIMEZONE
TZID:Europe/London
BEGIN:DAYLIGHT
TZOFFSETFROM:+0000
TZOFFSETTO:+0100
TZNAME:BST
DTSTART:20210328T010000
END:DAYLIGHT
BEGIN:STANDARD
TZOFFSETFROM:+0100
TZOFFSETTO:+0000
TZNAME:GMT
DTSTART:20211031T010000
END:STANDARD
BEGIN:DAYLIGHT
TZOFFSETFROM:+0000
TZOFFSETTO:+0100
TZNAME:BST
DTSTART:20220327T010000
END:DAYLIGHT
BEGIN:STANDARD
TZOFFSETFROM:+0100
TZOFFSETTO:+0000
TZNAME:GMT
DTSTART:20221030T010000
END:STANDARD
BEGIN:DAYLIGHT
TZOFFSETFROM:+0000
TZOFFSETTO:+0100
TZNAME:BST
DTSTART:20230326T010000
END:DAYLIGHT
BEGIN:STANDARD
TZOFFSETFROM:+0100
TZOFFSETTO:+0000
TZNAME:GMT
DTSTART:20231029T010000
END:STANDARD
END:VTIMEZONE
BEGIN:VEVENT
DTSTART;TZID=Europe/London:20220609T190000
DTEND;TZID=Europe/London:20220609T210000
DTSTAMP:20260423T085604
CREATED:20211103T162350Z
LAST-MODIFIED:20220608T102847Z
UID:2779-1654801200-1654808400@www.brixtonsociety.org.uk
SUMMARY:Brixton Society Annual General Meeting
DESCRIPTION:Brixton Society Annual General Meeting. Open to all members. Meeting venue: Windmill Education building\, Windmill Gardens\, off Blenheim Gardens\, SW2. \n  \n  \n  \n  \n 
URL:https://www.brixtonsociety.org.uk/event/brixton-society-annual-general-meeting-4/
LOCATION:Brixton Windmill\, Windmill Gardens\, Blenheim Gardens\, London\, SW2 5DA\, United Kingdom
CATEGORIES:Open meeting
END:VEVENT
END:VCALENDAR