BEGIN:VCALENDAR
VERSION:2.0
PRODID:-//The Brixton Society - ECPv6.15.20//NONSGML v1.0//EN
CALSCALE:GREGORIAN
METHOD:PUBLISH
X-WR-CALNAME:The Brixton Society
X-ORIGINAL-URL:https://www.brixtonsociety.org.uk
X-WR-CALDESC:Events for The Brixton Society
REFRESH-INTERVAL;VALUE=DURATION:PT1H
X-Robots-Tag:noindex
X-PUBLISHED-TTL:PT1H
BEGIN:VTIMEZONE
TZID:Europe/London
BEGIN:DAYLIGHT
TZOFFSETFROM:+0000
TZOFFSETTO:+0100
TZNAME:BST
DTSTART:20170326T010000
END:DAYLIGHT
BEGIN:STANDARD
TZOFFSETFROM:+0100
TZOFFSETTO:+0000
TZNAME:GMT
DTSTART:20171029T010000
END:STANDARD
BEGIN:DAYLIGHT
TZOFFSETFROM:+0000
TZOFFSETTO:+0100
TZNAME:BST
DTSTART:20180325T010000
END:DAYLIGHT
BEGIN:STANDARD
TZOFFSETFROM:+0100
TZOFFSETTO:+0000
TZNAME:GMT
DTSTART:20181028T010000
END:STANDARD
BEGIN:DAYLIGHT
TZOFFSETFROM:+0000
TZOFFSETTO:+0100
TZNAME:BST
DTSTART:20190331T010000
END:DAYLIGHT
BEGIN:STANDARD
TZOFFSETFROM:+0100
TZOFFSETTO:+0000
TZNAME:GMT
DTSTART:20191027T010000
END:STANDARD
END:VTIMEZONE
BEGIN:VEVENT
DTSTART;VALUE=DATE:20180609
DTEND;VALUE=DATE:20180611
DTSTAMP:20260425T215201
CREATED:20180405T114026Z
LAST-MODIFIED:20180405T114026Z
UID:692-1528502400-1528675199@www.brixtonsociety.org.uk
SUMMARY:Open Garden Squares
DESCRIPTION:
URL:https://www.brixtonsociety.org.uk/event/open-garden-squares/
CATEGORIES:Other
END:VEVENT
BEGIN:VEVENT
DTSTART;TZID=Europe/London:20180614T190000
DTEND;TZID=Europe/London:20180614T210000
DTSTAMP:20260425T215201
CREATED:20180405T105040Z
LAST-MODIFIED:20180405T110840Z
UID:651-1529002800-1529010000@www.brixtonsociety.org.uk
SUMMARY:Brixton Society Annual General Meeting
DESCRIPTION:Our Annual General Meeting covers a review of the years activities\, reviews and adopts annual accounts\, and elects the officers and committee for the coming year. All are welcome to attend.
URL:https://www.brixtonsociety.org.uk/event/brixton-society-annual-general-meeting/
LOCATION:Vida Walsh Centre\, 2b Saltoun Road\, Brixton\, London\, SW2 1EP\, United Kingdom
CATEGORIES:Other
END:VEVENT
BEGIN:VEVENT
DTSTART;TZID=Europe/London:20180625T183000
DTEND;TZID=Europe/London:20180625T203000
DTSTAMP:20260425T215201
CREATED:20180620T203923Z
LAST-MODIFIED:20180620T203923Z
UID:1164-1529951400-1529958600@www.brixtonsociety.org.uk
SUMMARY:Loughborough Road project\, drop-in session
DESCRIPTION:Join in the research of the history of the shops\, pubs and people of Loughborough Road and find out more about the amazing documents Lambeth Archives holds about Lambeth’s buildings\, businesses\, people and events.
URL:https://www.brixtonsociety.org.uk/event/loughborough-road-project-drop-in-session/
LOCATION:Lambeth Archives\, Minet Lbrary\, 52 Knatchbull Road\, London\, SE5 9QY
CATEGORIES:Other
ORGANIZER;CN="LEAF TRA":MAILTO:leaftra@gmail.com
END:VEVENT
END:VCALENDAR