BEGIN:VCALENDAR
VERSION:2.0
PRODID:-//The Brixton Society - ECPv6.15.20//NONSGML v1.0//EN
CALSCALE:GREGORIAN
METHOD:PUBLISH
X-ORIGINAL-URL:https://www.brixtonsociety.org.uk
X-WR-CALDESC:Events for The Brixton Society
REFRESH-INTERVAL;VALUE=DURATION:PT1H
X-Robots-Tag:noindex
X-PUBLISHED-TTL:PT1H
BEGIN:VTIMEZONE
TZID:Europe/London
BEGIN:DAYLIGHT
TZOFFSETFROM:+0000
TZOFFSETTO:+0100
TZNAME:BST
DTSTART:20170326T010000
END:DAYLIGHT
BEGIN:STANDARD
TZOFFSETFROM:+0100
TZOFFSETTO:+0000
TZNAME:GMT
DTSTART:20171029T010000
END:STANDARD
BEGIN:DAYLIGHT
TZOFFSETFROM:+0000
TZOFFSETTO:+0100
TZNAME:BST
DTSTART:20180325T010000
END:DAYLIGHT
BEGIN:STANDARD
TZOFFSETFROM:+0100
TZOFFSETTO:+0000
TZNAME:GMT
DTSTART:20181028T010000
END:STANDARD
BEGIN:DAYLIGHT
TZOFFSETFROM:+0000
TZOFFSETTO:+0100
TZNAME:BST
DTSTART:20190331T010000
END:DAYLIGHT
BEGIN:STANDARD
TZOFFSETFROM:+0100
TZOFFSETTO:+0000
TZNAME:GMT
DTSTART:20191027T010000
END:STANDARD
END:VTIMEZONE
BEGIN:VEVENT
DTSTART;TZID=Europe/London:20180811T110000
DTEND;TZID=Europe/London:20180811T130000
DTSTAMP:20260425T183310
CREATED:20180620T205609Z
LAST-MODIFIED:20180620T205609Z
UID:1175-1533985200-1533992400@www.brixtonsociety.org.uk
SUMMARY:Loughborough Road project\, drop-in session
DESCRIPTION:Join in the research of the history of the shops\, pubs and people of Loughborough Road and find out more about the amazing documents Lambeth Archives holds about Lambeth’s buildings\, businesses\, people and events.
URL:https://www.brixtonsociety.org.uk/event/loughborough-road-project-drop-in-session-4/
LOCATION:Lambeth Archives\, Minet Lbrary\, 52 Knatchbull Road\, London\, SE5 9QY
CATEGORIES:Other
ORGANIZER;CN="LEAF TRA":MAILTO:leaftra@gmail.com
END:VEVENT
BEGIN:VEVENT
DTSTART;TZID=Europe/London:20180820T183000
DTEND;TZID=Europe/London:20180820T200000
DTSTAMP:20260425T183310
CREATED:20180620T205719Z
LAST-MODIFIED:20180620T205719Z
UID:1177-1534789800-1534795200@www.brixtonsociety.org.uk
SUMMARY:Loughborough Road project\, drop-in session
DESCRIPTION:Join in the research of the history of the shops\, pubs and people of Loughborough Road and find out more about the amazing documents Lambeth Archives holds about Lambeth’s buildings\, businesses\, people and events.
URL:https://www.brixtonsociety.org.uk/event/loughborough-road-project-drop-in-session-5/
LOCATION:Lambeth Archives\, Minet Lbrary\, 52 Knatchbull Road\, London\, SE5 9QY
CATEGORIES:Other
ORGANIZER;CN="LEAF TRA":MAILTO:leaftra@gmail.com
END:VEVENT
END:VCALENDAR