BEGIN:VCALENDAR
VERSION:2.0
PRODID:-//The Brixton Society - ECPv6.15.20//NONSGML v1.0//EN
CALSCALE:GREGORIAN
METHOD:PUBLISH
X-WR-CALNAME:The Brixton Society
X-ORIGINAL-URL:https://www.brixtonsociety.org.uk
X-WR-CALDESC:Events for The Brixton Society
REFRESH-INTERVAL;VALUE=DURATION:PT1H
X-Robots-Tag:noindex
X-PUBLISHED-TTL:PT1H
BEGIN:VTIMEZONE
TZID:Europe/London
BEGIN:DAYLIGHT
TZOFFSETFROM:+0000
TZOFFSETTO:+0100
TZNAME:BST
DTSTART:20180325T010000
END:DAYLIGHT
BEGIN:STANDARD
TZOFFSETFROM:+0100
TZOFFSETTO:+0000
TZNAME:GMT
DTSTART:20181028T010000
END:STANDARD
BEGIN:DAYLIGHT
TZOFFSETFROM:+0000
TZOFFSETTO:+0100
TZNAME:BST
DTSTART:20190331T010000
END:DAYLIGHT
BEGIN:STANDARD
TZOFFSETFROM:+0100
TZOFFSETTO:+0000
TZNAME:GMT
DTSTART:20191027T010000
END:STANDARD
BEGIN:DAYLIGHT
TZOFFSETFROM:+0000
TZOFFSETTO:+0100
TZNAME:BST
DTSTART:20200329T010000
END:DAYLIGHT
BEGIN:STANDARD
TZOFFSETFROM:+0100
TZOFFSETTO:+0000
TZNAME:GMT
DTSTART:20201025T010000
END:STANDARD
END:VTIMEZONE
BEGIN:VEVENT
DTSTART;VALUE=DATE:20190720
DTEND;VALUE=DATE:20190722
DTSTAMP:20260425T001431
CREATED:20190505T115719Z
LAST-MODIFIED:20190716T111813Z
UID:1685-1563580800-1563753599@www.brixtonsociety.org.uk
SUMMARY:Lambeth Country Show
DESCRIPTION:Renew membership. Buy books and postcards. Location now confirmed as G-02 on Van Gogh Street.  This should be about 200 yards from Brockwell Hall\, down the slope towards the Herne Hill gate in the Charities/Market area. We will have 8 new postcards for sale as well as the Lambeth Heritage Festival Brochures for those who visit the stall. We should be much easier to find than last year so do visit the stall.
URL:https://www.brixtonsociety.org.uk/event/lambeth-country-show-4/
LOCATION:Brockwell Park\, London\, SE24 9BJ\, United Kingdom
CATEGORIES:Other
END:VEVENT
END:VCALENDAR