BEGIN:VCALENDAR
VERSION:2.0
PRODID:-//The Brixton Society - ECPv6.15.20//NONSGML v1.0//EN
CALSCALE:GREGORIAN
METHOD:PUBLISH
X-WR-CALNAME:The Brixton Society
X-ORIGINAL-URL:https://www.brixtonsociety.org.uk
X-WR-CALDESC:Events for The Brixton Society
REFRESH-INTERVAL;VALUE=DURATION:PT1H
X-Robots-Tag:noindex
X-PUBLISHED-TTL:PT1H
BEGIN:VTIMEZONE
TZID:Europe/London
BEGIN:DAYLIGHT
TZOFFSETFROM:+0000
TZOFFSETTO:+0100
TZNAME:BST
DTSTART:20200329T010000
END:DAYLIGHT
BEGIN:STANDARD
TZOFFSETFROM:+0100
TZOFFSETTO:+0000
TZNAME:GMT
DTSTART:20201025T010000
END:STANDARD
BEGIN:DAYLIGHT
TZOFFSETFROM:+0000
TZOFFSETTO:+0100
TZNAME:BST
DTSTART:20210328T010000
END:DAYLIGHT
BEGIN:STANDARD
TZOFFSETFROM:+0100
TZOFFSETTO:+0000
TZNAME:GMT
DTSTART:20211031T010000
END:STANDARD
BEGIN:DAYLIGHT
TZOFFSETFROM:+0000
TZOFFSETTO:+0100
TZNAME:BST
DTSTART:20220327T010000
END:DAYLIGHT
BEGIN:STANDARD
TZOFFSETFROM:+0100
TZOFFSETTO:+0000
TZNAME:GMT
DTSTART:20221030T010000
END:STANDARD
END:VTIMEZONE
BEGIN:VEVENT
DTSTART;TZID=Europe/London:20210904T101500
DTEND;TZID=Europe/London:20210904T163000
DTSTAMP:20260423T043036
CREATED:20210825T175906Z
LAST-MODIFIED:20210825T175906Z
UID:2708-1630750500-1630773000@www.brixtonsociety.org.uk
SUMMARY:The Lambeth Local History Fair
DESCRIPTION:Lambeth’s Local History Fair has traditionally been the opening event of the Lambeth Heritage Festival\, and after an absence last year it now makes a welcome return ‘in the flesh’ in the vast and well-ventilated nave of St Mark’s church where dozens of local society stands\, local history experts and bookstalls  will be on hand. Food\, drink and refreshments  will be on sale at the Oval Farmer’s Market outside the church. There is no need to book. Just drop in anytime to sample the programme of talks and local walks that will be running through the day\,
URL:https://www.brixtonsociety.org.uk/event/the-lambeth-local-history-fair/
LOCATION:St Mark’s Church\, Oval\, 56 Kennington Oval\, London\, SE11 4PW\, United Kingdom
CATEGORIES:Other
END:VEVENT
END:VCALENDAR