BEGIN:VCALENDAR
VERSION:2.0
PRODID:-//The Brixton Society - ECPv6.15.20//NONSGML v1.0//EN
CALSCALE:GREGORIAN
METHOD:PUBLISH
X-WR-CALNAME:The Brixton Society
X-ORIGINAL-URL:https://www.brixtonsociety.org.uk
X-WR-CALDESC:Events for The Brixton Society
REFRESH-INTERVAL;VALUE=DURATION:PT1H
X-Robots-Tag:noindex
X-PUBLISHED-TTL:PT1H
BEGIN:VTIMEZONE
TZID:Europe/London
BEGIN:DAYLIGHT
TZOFFSETFROM:+0000
TZOFFSETTO:+0100
TZNAME:BST
DTSTART:20200329T010000
END:DAYLIGHT
BEGIN:STANDARD
TZOFFSETFROM:+0100
TZOFFSETTO:+0000
TZNAME:GMT
DTSTART:20201025T010000
END:STANDARD
BEGIN:DAYLIGHT
TZOFFSETFROM:+0000
TZOFFSETTO:+0100
TZNAME:BST
DTSTART:20210328T010000
END:DAYLIGHT
BEGIN:STANDARD
TZOFFSETFROM:+0100
TZOFFSETTO:+0000
TZNAME:GMT
DTSTART:20211031T010000
END:STANDARD
BEGIN:DAYLIGHT
TZOFFSETFROM:+0000
TZOFFSETTO:+0100
TZNAME:BST
DTSTART:20220327T010000
END:DAYLIGHT
BEGIN:STANDARD
TZOFFSETFROM:+0100
TZOFFSETTO:+0000
TZNAME:GMT
DTSTART:20221030T010000
END:STANDARD
END:VTIMEZONE
BEGIN:VEVENT
DTSTART;TZID=Europe/London:20211212T120000
DTEND;TZID=Europe/London:20211212T153000
DTSTAMP:20260422T232714
CREATED:20211103T163426Z
LAST-MODIFIED:20211103T163928Z
UID:2786-1639310400-1639323000@www.brixtonsociety.org.uk
SUMMARY:Brixton Windmill Winter Market
DESCRIPTION:The Brixton Society will have a stall at the Brixton Windmill Winter Market. Open from 12 to 3.30pm. We will be selling our books\, postcards\, and the remaining Local Heroes teatowels. \n 
URL:https://www.brixtonsociety.org.uk/event/brixton-windmill-winter-market/
LOCATION:Brixton Windmill\, Windmill Gardens\, Blenheim Gardens\, London\, SW2 5DA\, United Kingdom
CATEGORIES:Other
END:VEVENT
END:VCALENDAR