BEGIN:VCALENDAR
VERSION:2.0
PRODID:-//The Brixton Society - ECPv6.15.20//NONSGML v1.0//EN
CALSCALE:GREGORIAN
METHOD:PUBLISH
X-WR-CALNAME:The Brixton Society
X-ORIGINAL-URL:https://www.brixtonsociety.org.uk
X-WR-CALDESC:Events for The Brixton Society
REFRESH-INTERVAL;VALUE=DURATION:PT1H
X-Robots-Tag:noindex
X-PUBLISHED-TTL:PT1H
BEGIN:VTIMEZONE
TZID:Europe/London
BEGIN:DAYLIGHT
TZOFFSETFROM:+0000
TZOFFSETTO:+0100
TZNAME:BST
DTSTART:20230326T010000
END:DAYLIGHT
BEGIN:STANDARD
TZOFFSETFROM:+0100
TZOFFSETTO:+0000
TZNAME:GMT
DTSTART:20231029T010000
END:STANDARD
BEGIN:DAYLIGHT
TZOFFSETFROM:+0000
TZOFFSETTO:+0100
TZNAME:BST
DTSTART:20240331T010000
END:DAYLIGHT
BEGIN:STANDARD
TZOFFSETFROM:+0100
TZOFFSETTO:+0000
TZNAME:GMT
DTSTART:20241027T010000
END:STANDARD
BEGIN:DAYLIGHT
TZOFFSETFROM:+0000
TZOFFSETTO:+0100
TZNAME:BST
DTSTART:20250330T010000
END:DAYLIGHT
BEGIN:STANDARD
TZOFFSETFROM:+0100
TZOFFSETTO:+0000
TZNAME:GMT
DTSTART:20251026T010000
END:STANDARD
END:VTIMEZONE
BEGIN:VEVENT
DTSTART;TZID=Europe/London:20240623T100000
DTEND;TZID=Europe/London:20240623T120000
DTSTAMP:20260420T210639
CREATED:20240529T105157Z
LAST-MODIFIED:20240529T105302Z
UID:3565-1719136800-1719144000@www.brixtonsociety.org.uk
SUMMARY:Urban Sketching with the Brixton Society
DESCRIPTION:Urban Sketching with the Brixton Society \nJoin two Brixton Society members for pointers and hear about the history of what you want to draw. No pressure and no prizes\, just a lovely opportunity to come together and have a go at sketching with a little bit of history included. Bring a small sketchbook or clipboard and paper\, pencil and rubber and any other materials you need. \nFree\, but places limited. To book and find out where to meet depending on weather.  email: sketch@brixtonsociety.org.uk
URL:https://www.brixtonsociety.org.uk/event/urban-sketching-with-the-brixton-society-2/
CATEGORIES:Other
END:VEVENT
END:VCALENDAR