BEGIN:VCALENDAR
VERSION:2.0
PRODID:-//The Brixton Society - ECPv6.15.20//NONSGML v1.0//EN
CALSCALE:GREGORIAN
METHOD:PUBLISH
X-ORIGINAL-URL:https://www.brixtonsociety.org.uk
X-WR-CALDESC:Events for The Brixton Society
REFRESH-INTERVAL;VALUE=DURATION:PT1H
X-Robots-Tag:noindex
X-PUBLISHED-TTL:PT1H
BEGIN:VTIMEZONE
TZID:Europe/London
BEGIN:DAYLIGHT
TZOFFSETFROM:+0000
TZOFFSETTO:+0100
TZNAME:BST
DTSTART:20240331T010000
END:DAYLIGHT
BEGIN:STANDARD
TZOFFSETFROM:+0100
TZOFFSETTO:+0000
TZNAME:GMT
DTSTART:20241027T010000
END:STANDARD
BEGIN:DAYLIGHT
TZOFFSETFROM:+0000
TZOFFSETTO:+0100
TZNAME:BST
DTSTART:20250330T010000
END:DAYLIGHT
BEGIN:STANDARD
TZOFFSETFROM:+0100
TZOFFSETTO:+0000
TZNAME:GMT
DTSTART:20251026T010000
END:STANDARD
BEGIN:DAYLIGHT
TZOFFSETFROM:+0000
TZOFFSETTO:+0100
TZNAME:BST
DTSTART:20260329T010000
END:DAYLIGHT
BEGIN:STANDARD
TZOFFSETFROM:+0100
TZOFFSETTO:+0000
TZNAME:GMT
DTSTART:20261025T010000
END:STANDARD
END:VTIMEZONE
BEGIN:VEVENT
DTSTART;TZID=Europe/London:20250907T110000
DTEND;TZID=Europe/London:20250907T123000
DTSTAMP:20260419T194920
CREATED:20250624T112009Z
LAST-MODIFIED:20250624T112009Z
UID:3782-1757242800-1757248200@www.brixtonsociety.org.uk
SUMMARY:Urban Sketching with the Brixton Society
DESCRIPTION:Urban Sketching with the Brixton Society \nWhether you are experienced or a first-timer at urban sketching\, join two Brixton Society members for some pointers and hear about the history of what you want to draw. An opportunity to have a go at sketching with a little bit of history included. Bring a small sketchbook or clipboard and paper\, pencil and rubber. \nFree\, but places limited. To book and find out where to meet in central Brixton depending on weather.  email: sketch@brixtonsociety.org.uk
URL:https://www.brixtonsociety.org.uk/event/urban-sketching-with-the-brixton-society-4/
CATEGORIES:Other
END:VEVENT
END:VCALENDAR