BEGIN:VCALENDAR
VERSION:2.0
PRODID:-//The Brixton Society - ECPv6.15.20//NONSGML v1.0//EN
CALSCALE:GREGORIAN
METHOD:PUBLISH
X-WR-CALNAME:The Brixton Society
X-ORIGINAL-URL:https://www.brixtonsociety.org.uk
X-WR-CALDESC:Events for The Brixton Society
REFRESH-INTERVAL;VALUE=DURATION:PT1H
X-Robots-Tag:noindex
X-PUBLISHED-TTL:PT1H
BEGIN:VTIMEZONE
TZID:Europe/London
BEGIN:DAYLIGHT
TZOFFSETFROM:+0000
TZOFFSETTO:+0100
TZNAME:BST
DTSTART:20200329T010000
END:DAYLIGHT
BEGIN:STANDARD
TZOFFSETFROM:+0100
TZOFFSETTO:+0000
TZNAME:GMT
DTSTART:20201025T010000
END:STANDARD
BEGIN:DAYLIGHT
TZOFFSETFROM:+0000
TZOFFSETTO:+0100
TZNAME:BST
DTSTART:20210328T010000
END:DAYLIGHT
BEGIN:STANDARD
TZOFFSETFROM:+0100
TZOFFSETTO:+0000
TZNAME:GMT
DTSTART:20211031T010000
END:STANDARD
BEGIN:DAYLIGHT
TZOFFSETFROM:+0000
TZOFFSETTO:+0100
TZNAME:BST
DTSTART:20220327T010000
END:DAYLIGHT
BEGIN:STANDARD
TZOFFSETFROM:+0100
TZOFFSETTO:+0000
TZNAME:GMT
DTSTART:20221030T010000
END:STANDARD
END:VTIMEZONE
BEGIN:VEVENT
DTSTART;TZID=Europe/London:20211014T190000
DTEND;TZID=Europe/London:20211014T210000
DTSTAMP:20260425T014422
CREATED:20210513T144623Z
LAST-MODIFIED:20210513T144623Z
UID:2640-1634238000-1634245200@www.brixtonsociety.org.uk
SUMMARY:Brixton Society Committee Meeting
DESCRIPTION:Brixton Society monthly committee meeting. Meetings are currently held by Zoom. All members are welcome to dial in. Please contact Chair@brixtonsociety.org.uk for details.
URL:https://www.brixtonsociety.org.uk/event/brixton-society-committee-meeting-30/
CATEGORIES:Committee meeting
END:VEVENT
BEGIN:VEVENT
DTSTART;TZID=Europe/London:20211017T143000
DTEND;TZID=Europe/London:20211017T163000
DTSTAMP:20260425T014422
CREATED:20210513T123226Z
LAST-MODIFIED:20210513T123226Z
UID:2628-1634481000-1634488200@www.brixtonsociety.org.uk
SUMMARY:Heritage Walk - Railton Road\, marking the 40th anniversary of the Brixton Riot of 1981
DESCRIPTION:Summer walks start at 2.30pm and last up to 90 minutes. Booking is essential. Details of meeting point and booking contact: info@brixtonsociety.org.uk
URL:https://www.brixtonsociety.org.uk/event/heritage-walk-railton-road-marking-the-40th-anniversary-of-the-brixton-riot-of-1981/
CATEGORIES:Heritage walk
END:VEVENT
END:VCALENDAR