BEGIN:VCALENDAR
VERSION:2.0
PRODID:-//The Brixton Society - ECPv6.15.20//NONSGML v1.0//EN
CALSCALE:GREGORIAN
METHOD:PUBLISH
X-WR-CALNAME:The Brixton Society
X-ORIGINAL-URL:https://www.brixtonsociety.org.uk
X-WR-CALDESC:Events for The Brixton Society
REFRESH-INTERVAL;VALUE=DURATION:PT1H
X-Robots-Tag:noindex
X-PUBLISHED-TTL:PT1H
BEGIN:VTIMEZONE
TZID:Europe/London
BEGIN:DAYLIGHT
TZOFFSETFROM:+0000
TZOFFSETTO:+0100
TZNAME:BST
DTSTART:20210328T010000
END:DAYLIGHT
BEGIN:STANDARD
TZOFFSETFROM:+0100
TZOFFSETTO:+0000
TZNAME:GMT
DTSTART:20211031T010000
END:STANDARD
BEGIN:DAYLIGHT
TZOFFSETFROM:+0000
TZOFFSETTO:+0100
TZNAME:BST
DTSTART:20220327T010000
END:DAYLIGHT
BEGIN:STANDARD
TZOFFSETFROM:+0100
TZOFFSETTO:+0000
TZNAME:GMT
DTSTART:20221030T010000
END:STANDARD
BEGIN:DAYLIGHT
TZOFFSETFROM:+0000
TZOFFSETTO:+0100
TZNAME:BST
DTSTART:20230326T010000
END:DAYLIGHT
BEGIN:STANDARD
TZOFFSETFROM:+0100
TZOFFSETTO:+0000
TZNAME:GMT
DTSTART:20231029T010000
END:STANDARD
END:VTIMEZONE
BEGIN:VEVENT
DTSTART;TZID=Europe/London:20220512T190000
DTEND;TZID=Europe/London:20220512T210000
DTSTAMP:20260424T130908
CREATED:20211103T162049Z
LAST-MODIFIED:20211103T162049Z
UID:2776-1652382000-1652389200@www.brixtonsociety.org.uk
SUMMARY:Brixton Society Committee Meeting
DESCRIPTION:Brixton Society monthly committee meeting. Meeting venue TBA.
URL:https://www.brixtonsociety.org.uk/event/brixton-society-committee-meeting-34/
CATEGORIES:Committee meeting
END:VEVENT
BEGIN:VEVENT
DTSTART;TZID=Europe/London:20220514T143000
DTEND;TZID=Europe/London:20220514T154500
DTSTAMP:20260424T130908
CREATED:20220213T131807Z
LAST-MODIFIED:20220411T101446Z
UID:2840-1652538600-1652543100@www.brixtonsociety.org.uk
SUMMARY:Brixton Market Heritage Walk
DESCRIPTION:A 75 minute walk taking in the street markets\, covered arcades and high street of this vibrant area.\ncost: £5 per adult. Advance booking essential.\nBooking will be via Eventbrite only.\nBooking:  see link here\nemail marketwalks@brixtonsociety.org.uk if you have other enquiries
URL:https://www.brixtonsociety.org.uk/event/brixton-market-heritage-walk-27/
CATEGORIES:Heritage walk
END:VEVENT
BEGIN:VEVENT
DTSTART;TZID=Europe/London:20220515T143000
DTEND;TZID=Europe/London:20220515T160000
DTSTAMP:20260424T130908
CREATED:20220214T162101Z
LAST-MODIFIED:20220214T164700Z
UID:2885-1652625000-1652630400@www.brixtonsociety.org.uk
SUMMARY:Heritage Walk - Tulse Hill
DESCRIPTION:Tulse Hill\, through the heart of the old estate.\nBooking is essential. Details of meeting point\, and to book places please email: info@brixtonsociety.org.uk
URL:https://www.brixtonsociety.org.uk/event/heritage-walk-tulse-hill/
CATEGORIES:Heritage walk
END:VEVENT
BEGIN:VEVENT
DTSTART;TZID=Europe/London:20220529T143000
DTEND;TZID=Europe/London:20220529T163000
DTSTAMP:20260424T130908
CREATED:20220214T163719Z
LAST-MODIFIED:20220511T155624Z
UID:2893-1653834600-1653841800@www.brixtonsociety.org.uk
SUMMARY:Heritage Walk - Brixton's Blue Plaques
DESCRIPTION:Brixton’s Blue Plaques. Around the middle of Brixton there are many plaques – blue and otherwise – commemorating notable people and events. Find out about them on this walk.\nThis walk is now fully booked. However\, we may receive cancellations or\, if there is enough demand\, put on another walk. To enquire\, please e-mail: bill@linskey.org.uk.
URL:https://www.brixtonsociety.org.uk/event/heritage-walk-brixtons-blue-plaques/
CATEGORIES:Heritage walk
END:VEVENT
END:VCALENDAR