BEGIN:VCALENDAR
VERSION:2.0
PRODID:-//The Brixton Society - ECPv6.15.20//NONSGML v1.0//EN
CALSCALE:GREGORIAN
METHOD:PUBLISH
X-ORIGINAL-URL:https://www.brixtonsociety.org.uk
X-WR-CALDESC:Events for The Brixton Society
REFRESH-INTERVAL;VALUE=DURATION:PT1H
X-Robots-Tag:noindex
X-PUBLISHED-TTL:PT1H
BEGIN:VTIMEZONE
TZID:Europe/London
BEGIN:DAYLIGHT
TZOFFSETFROM:+0000
TZOFFSETTO:+0100
TZNAME:BST
DTSTART:20210328T010000
END:DAYLIGHT
BEGIN:STANDARD
TZOFFSETFROM:+0100
TZOFFSETTO:+0000
TZNAME:GMT
DTSTART:20211031T010000
END:STANDARD
BEGIN:DAYLIGHT
TZOFFSETFROM:+0000
TZOFFSETTO:+0100
TZNAME:BST
DTSTART:20220327T010000
END:DAYLIGHT
BEGIN:STANDARD
TZOFFSETFROM:+0100
TZOFFSETTO:+0000
TZNAME:GMT
DTSTART:20221030T010000
END:STANDARD
BEGIN:DAYLIGHT
TZOFFSETFROM:+0000
TZOFFSETTO:+0100
TZNAME:BST
DTSTART:20230326T010000
END:DAYLIGHT
BEGIN:STANDARD
TZOFFSETFROM:+0100
TZOFFSETTO:+0000
TZNAME:GMT
DTSTART:20231029T010000
END:STANDARD
END:VTIMEZONE
BEGIN:VEVENT
DTSTART;TZID=Europe/London:20220709T143000
DTEND;TZID=Europe/London:20220709T154500
DTSTAMP:20260424T101132
CREATED:20220213T132054Z
LAST-MODIFIED:20220410T094138Z
UID:2844-1657377000-1657381500@www.brixtonsociety.org.uk
SUMMARY:Brixton Market Heritage Walk
DESCRIPTION:A 75 minute walk taking in the street markets\, covered arcades and high street of this vibrant area.\ncost: £5 per adult. Advance booking essential.\nBooking will be via Eventbrite only.\nBooking: via link here \nemail marketwalks@brixtonsociety.org.uk if you have other enquiries
URL:https://www.brixtonsociety.org.uk/event/brixton-market-heritage-walk-29/
CATEGORIES:Heritage walk
END:VEVENT
BEGIN:VEVENT
DTSTART;TZID=Europe/London:20220714T190000
DTEND;TZID=Europe/London:20220714T210000
DTSTAMP:20260424T101132
CREATED:20211103T162534Z
LAST-MODIFIED:20220710T170908Z
UID:2782-1657825200-1657832400@www.brixtonsociety.org.uk
SUMMARY:Brixton Society Committee Meeting
DESCRIPTION:Brixton Society monthly Committee meeting at 7pm. Venue: Vida Walsh Centre\, Saltoun Road
URL:https://www.brixtonsociety.org.uk/event/brixton-society-committee-meeting-35/
LOCATION:Vida Walsh Centre\, 2b Saltoun Road\, Brixton\, London\, SW2 1EP\, United Kingdom
CATEGORIES:Committee meeting
END:VEVENT
BEGIN:VEVENT
DTSTART;TZID=Europe/London:20220724T143000
DTEND;TZID=Europe/London:20220724T160000
DTSTAMP:20260424T101132
CREATED:20220214T164403Z
LAST-MODIFIED:20220214T164403Z
UID:2895-1658673000-1658678400@www.brixtonsociety.org.uk
SUMMARY:Heritage Walk - Stockwell Green
DESCRIPTION:Stockwell Green – a walk around the Stockwell Green area\, which at one time had two places of worship\, two schools\, two breweries and – of course – a village green. Details of meeting point\, and to book places please email: bill@linskey.org.uk
URL:https://www.brixtonsociety.org.uk/event/heritage-walk-stockwell-green/
CATEGORIES:Heritage walk
END:VEVENT
END:VCALENDAR