BEGIN:VCALENDAR
VERSION:2.0
PRODID:-//The Brixton Society - ECPv6.15.20//NONSGML v1.0//EN
CALSCALE:GREGORIAN
METHOD:PUBLISH
X-ORIGINAL-URL:https://www.brixtonsociety.org.uk
X-WR-CALDESC:Events for The Brixton Society
REFRESH-INTERVAL;VALUE=DURATION:PT1H
X-Robots-Tag:noindex
X-PUBLISHED-TTL:PT1H
BEGIN:VTIMEZONE
TZID:Europe/London
BEGIN:DAYLIGHT
TZOFFSETFROM:+0000
TZOFFSETTO:+0100
TZNAME:BST
DTSTART:20210328T010000
END:DAYLIGHT
BEGIN:STANDARD
TZOFFSETFROM:+0100
TZOFFSETTO:+0000
TZNAME:GMT
DTSTART:20211031T010000
END:STANDARD
BEGIN:DAYLIGHT
TZOFFSETFROM:+0000
TZOFFSETTO:+0100
TZNAME:BST
DTSTART:20220327T010000
END:DAYLIGHT
BEGIN:STANDARD
TZOFFSETFROM:+0100
TZOFFSETTO:+0000
TZNAME:GMT
DTSTART:20221030T010000
END:STANDARD
BEGIN:DAYLIGHT
TZOFFSETFROM:+0000
TZOFFSETTO:+0100
TZNAME:BST
DTSTART:20230326T010000
END:DAYLIGHT
BEGIN:STANDARD
TZOFFSETFROM:+0100
TZOFFSETTO:+0000
TZNAME:GMT
DTSTART:20231029T010000
END:STANDARD
END:VTIMEZONE
BEGIN:VEVENT
DTSTART;TZID=Europe/London:20220811T190000
DTEND;TZID=Europe/London:20220811T210000
DTSTAMP:20260424T083239
CREATED:20211103T162653Z
LAST-MODIFIED:20220710T170957Z
UID:2784-1660244400-1660251600@www.brixtonsociety.org.uk
SUMMARY:Brixton Society Committee Meeting
DESCRIPTION:Brixton Society Committee Meeting 7pm. Venue Vida Walsh Centre\, Saltoun Road
URL:https://www.brixtonsociety.org.uk/event/brixton-society-committee-meeting-36/
LOCATION:Vida Walsh Centre\, 2b Saltoun Road\, Brixton\, London\, SW2 1EP\, United Kingdom
CATEGORIES:Committee meeting
END:VEVENT
BEGIN:VEVENT
DTSTART;TZID=Europe/London:20220813T143000
DTEND;TZID=Europe/London:20220813T154500
DTSTAMP:20260424T083239
CREATED:20220213T132200Z
LAST-MODIFIED:20220410T094247Z
UID:2846-1660401000-1660405500@www.brixtonsociety.org.uk
SUMMARY:Brixton Market Heritage Walk
DESCRIPTION:A 75 minute walk taking in the street markets\, covered arcades and high street of this vibrant area.\ncost: £5 per adult. Advance booking essential.\nBooking will be via Eventbrite only.\nBooking: via link here\nemail marketwalks@brixtonsociety.org.uk if you have other enquiries
URL:https://www.brixtonsociety.org.uk/event/brixton-market-heritage-walk-30/
CATEGORIES:Heritage walk
END:VEVENT
BEGIN:VEVENT
DTSTART;TZID=Europe/London:20220821T143000
DTEND;TZID=Europe/London:20220821T160000
DTSTAMP:20260424T083239
CREATED:20220214T162421Z
LAST-MODIFIED:20220214T164503Z
UID:2889-1661092200-1661097600@www.brixtonsociety.org.uk
SUMMARY:Heritage Walk - Landsdowne Way and Larkhall Park
DESCRIPTION:Landsowne Way and Larkhall Park\nBooking is essential. Details of meeting point\, and to book places please email: info@brixtonsociety.org.uk
URL:https://www.brixtonsociety.org.uk/event/heritage-walk-landsdowne-way-and-larkhall-park/
CATEGORIES:Heritage walk
END:VEVENT
END:VCALENDAR