BEGIN:VCALENDAR
VERSION:2.0
PRODID:-//The Brixton Society - ECPv6.15.20//NONSGML v1.0//EN
CALSCALE:GREGORIAN
METHOD:PUBLISH
X-ORIGINAL-URL:https://www.brixtonsociety.org.uk
X-WR-CALDESC:Events for The Brixton Society
REFRESH-INTERVAL;VALUE=DURATION:PT1H
X-Robots-Tag:noindex
X-PUBLISHED-TTL:PT1H
BEGIN:VTIMEZONE
TZID:Europe/London
BEGIN:DAYLIGHT
TZOFFSETFROM:+0000
TZOFFSETTO:+0100
TZNAME:BST
DTSTART:20220327T010000
END:DAYLIGHT
BEGIN:STANDARD
TZOFFSETFROM:+0100
TZOFFSETTO:+0000
TZNAME:GMT
DTSTART:20221030T010000
END:STANDARD
BEGIN:DAYLIGHT
TZOFFSETFROM:+0000
TZOFFSETTO:+0100
TZNAME:BST
DTSTART:20230326T010000
END:DAYLIGHT
BEGIN:STANDARD
TZOFFSETFROM:+0100
TZOFFSETTO:+0000
TZNAME:GMT
DTSTART:20231029T010000
END:STANDARD
BEGIN:DAYLIGHT
TZOFFSETFROM:+0000
TZOFFSETTO:+0100
TZNAME:BST
DTSTART:20240331T010000
END:DAYLIGHT
BEGIN:STANDARD
TZOFFSETFROM:+0100
TZOFFSETTO:+0000
TZNAME:GMT
DTSTART:20241027T010000
END:STANDARD
END:VTIMEZONE
BEGIN:VEVENT
DTSTART;TZID=Europe/London:20230114T143000
DTEND;TZID=Europe/London:20230114T154500
DTSTAMP:20260424T003034
CREATED:20220213T132753Z
LAST-MODIFIED:20221031T171937Z
UID:2858-1673706600-1673711100@www.brixtonsociety.org.uk
SUMMARY:Brixton Market Heritage Walk - no walk this month
DESCRIPTION:email marketwalks@brixtonsociety.org.uk if you have other enquiries
URL:https://www.brixtonsociety.org.uk/event/brixton-market-heritage-walk-36/
CATEGORIES:Heritage walk
END:VEVENT
BEGIN:VEVENT
DTSTART;TZID=Europe/London:20230119T190000
DTEND;TZID=Europe/London:20230119T210000
DTSTAMP:20260424T003034
CREATED:20221110T115000Z
LAST-MODIFIED:20230104T134330Z
UID:2986-1674154800-1674162000@www.brixtonsociety.org.uk
SUMMARY:Brixton Society Committee Meeting
DESCRIPTION:Monthly committee meeting – please note a week later than usual. Venue Vida Walsh
URL:https://www.brixtonsociety.org.uk/event/brixton-society-committee-meeting-39/
LOCATION:Vida Walsh Centre\, 2b Saltoun Road\, Brixton\, London\, SW2 1EP\, United Kingdom
END:VEVENT
END:VCALENDAR