BEGIN:VCALENDAR
VERSION:2.0
PRODID:-//The Brixton Society - ECPv6.15.20//NONSGML v1.0//EN
CALSCALE:GREGORIAN
METHOD:PUBLISH
X-WR-CALNAME:The Brixton Society
X-ORIGINAL-URL:https://www.brixtonsociety.org.uk
X-WR-CALDESC:Events for The Brixton Society
REFRESH-INTERVAL;VALUE=DURATION:PT1H
X-Robots-Tag:noindex
X-PUBLISHED-TTL:PT1H
BEGIN:VTIMEZONE
TZID:Europe/London
BEGIN:DAYLIGHT
TZOFFSETFROM:+0000
TZOFFSETTO:+0100
TZNAME:BST
DTSTART:20220327T010000
END:DAYLIGHT
BEGIN:STANDARD
TZOFFSETFROM:+0100
TZOFFSETTO:+0000
TZNAME:GMT
DTSTART:20221030T010000
END:STANDARD
BEGIN:DAYLIGHT
TZOFFSETFROM:+0000
TZOFFSETTO:+0100
TZNAME:BST
DTSTART:20230326T010000
END:DAYLIGHT
BEGIN:STANDARD
TZOFFSETFROM:+0100
TZOFFSETTO:+0000
TZNAME:GMT
DTSTART:20231029T010000
END:STANDARD
BEGIN:DAYLIGHT
TZOFFSETFROM:+0000
TZOFFSETTO:+0100
TZNAME:BST
DTSTART:20240331T010000
END:DAYLIGHT
BEGIN:STANDARD
TZOFFSETFROM:+0100
TZOFFSETTO:+0000
TZNAME:GMT
DTSTART:20241027T010000
END:STANDARD
END:VTIMEZONE
BEGIN:VEVENT
DTSTART;TZID=Europe/London:20230511T190000
DTEND;TZID=Europe/London:20230511T210000
DTSTAMP:20260423T171958
CREATED:20230116T123248Z
LAST-MODIFIED:20230116T123248Z
UID:3043-1683831600-1683838800@www.brixtonsociety.org.uk
SUMMARY:Brixton Society Committee Meeting
DESCRIPTION:Monthly Committee meeting\, Vida Walsh\, Saltoun Road
URL:https://www.brixtonsociety.org.uk/event/brixton-society-committee-meeting-43/
LOCATION:Vida Walsh Centre\, 2b Saltoun Road\, Brixton\, London\, SW2 1EP\, United Kingdom
CATEGORIES:Committee meeting
END:VEVENT
BEGIN:VEVENT
DTSTART;TZID=Europe/London:20230513T143000
DTEND;TZID=Europe/London:20230513T154500
DTSTAMP:20260423T171958
CREATED:20230116T132220Z
LAST-MODIFIED:20230204T153851Z
UID:3071-1683988200-1683992700@www.brixtonsociety.org.uk
SUMMARY:Brixton Market Heritage Walk
DESCRIPTION:A 75 minute walk taking in the street markets\, covered arcades and high street of this vibrant area.\ncost: £5 per adult. Advance booking essential\nBooking will be via Eventbrite only. \nemail marketwalks@brixtonsociety.org.uk if you have other enquiries
URL:https://www.brixtonsociety.org.uk/event/brixton-market-heritage-walk-45/
LOCATION:Brixton Market\, By the Craft Beer Co\, London\, SW9 8PA\, United Kingdom
CATEGORIES:Heritage walk
END:VEVENT
BEGIN:VEVENT
DTSTART;TZID=Europe/London:20230521T143000
DTEND;TZID=Europe/London:20230521T163000
DTSTAMP:20260423T171958
CREATED:20230203T095635Z
LAST-MODIFIED:20230204T153928Z
UID:3130-1684679400-1684686600@www.brixtonsociety.org.uk
SUMMARY:Heritage Walk - Windrush Square to Brixton Orchard
DESCRIPTION:Booking is essential. Details of meeting point\, and to book places please email: info@brixtonsociety.org.uk \n\n\n\n\n Add to calendar
URL:https://www.brixtonsociety.org.uk/event/heritage-walk-windrush-square-to-brixton-orchard/
CATEGORIES:Heritage walk
END:VEVENT
END:VCALENDAR