BEGIN:VCALENDAR
VERSION:2.0
PRODID:-//The Brixton Society - ECPv6.15.20//NONSGML v1.0//EN
CALSCALE:GREGORIAN
METHOD:PUBLISH
X-ORIGINAL-URL:https://www.brixtonsociety.org.uk
X-WR-CALDESC:Events for The Brixton Society
REFRESH-INTERVAL;VALUE=DURATION:PT1H
X-Robots-Tag:noindex
X-PUBLISHED-TTL:PT1H
BEGIN:VTIMEZONE
TZID:Europe/London
BEGIN:DAYLIGHT
TZOFFSETFROM:+0000
TZOFFSETTO:+0100
TZNAME:BST
DTSTART:20220327T010000
END:DAYLIGHT
BEGIN:STANDARD
TZOFFSETFROM:+0100
TZOFFSETTO:+0000
TZNAME:GMT
DTSTART:20221030T010000
END:STANDARD
BEGIN:DAYLIGHT
TZOFFSETFROM:+0000
TZOFFSETTO:+0100
TZNAME:BST
DTSTART:20230326T010000
END:DAYLIGHT
BEGIN:STANDARD
TZOFFSETFROM:+0100
TZOFFSETTO:+0000
TZNAME:GMT
DTSTART:20231029T010000
END:STANDARD
BEGIN:DAYLIGHT
TZOFFSETFROM:+0000
TZOFFSETTO:+0100
TZNAME:BST
DTSTART:20240331T010000
END:DAYLIGHT
BEGIN:STANDARD
TZOFFSETFROM:+0100
TZOFFSETTO:+0000
TZNAME:GMT
DTSTART:20241027T010000
END:STANDARD
END:VTIMEZONE
BEGIN:VEVENT
DTSTART;TZID=Europe/London:20230702T143000
DTEND;TZID=Europe/London:20230702T163000
DTSTAMP:20260423T134920
CREATED:20230203T094531Z
LAST-MODIFIED:20230204T154224Z
UID:3123-1688308200-1688315400@www.brixtonsociety.org.uk
SUMMARY:Heritage Walk - Brixton's Blue Plaques
DESCRIPTION:Brixton’s Blue Plaques. Around the middle of Brixton there are many plaques – blue and otherwise – commemorating notable people and events. Find out about them on this walk. Meet outside Brixton Underground station\nBooking essential. please e-mail: bill@linskey.org.uk.
URL:https://www.brixtonsociety.org.uk/event/heritage-walk-brixtons-blue-plaques-2/
LOCATION:Brixton Underground Station
CATEGORIES:Heritage walk
END:VEVENT
BEGIN:VEVENT
DTSTART;TZID=Europe/London:20230708T143000
DTEND;TZID=Europe/London:20230708T154500
DTSTAMP:20260423T134920
CREATED:20230116T130539Z
LAST-MODIFIED:20230707T123412Z
UID:3075-1688826600-1688831100@www.brixtonsociety.org.uk
SUMMARY:Brixton Market Heritage Walk - Cancelled
DESCRIPTION:This month’s walk has been cancelled because of the expected excessive heat with high humidity in London. As at 1.30pm Friday we have no-one booked on the walk. Our apologies to anyone who was planning to book. \nA 75 minute walk taking in the street markets\, covered arcades and high street of this vibrant area.\ncost: £5 per adult. Advance booking essential through eventbrite.\nemail marketwalks@brixtonsociety.org.uk if you have other enquiries
URL:https://www.brixtonsociety.org.uk/event/brixton-market-heritage-walk-39/
LOCATION:Brixton Market\, By the Craft Beer Co\, London\, SW9 8PA\, United Kingdom
CATEGORIES:Heritage walk
END:VEVENT
BEGIN:VEVENT
DTSTART;TZID=Europe/London:20230713T190000
DTEND;TZID=Europe/London:20230713T210000
DTSTAMP:20260423T134920
CREATED:20230116T123557Z
LAST-MODIFIED:20230116T123557Z
UID:3047-1689274800-1689282000@www.brixtonsociety.org.uk
SUMMARY:Brixton Society Committee Meeting
DESCRIPTION:Monthly Committee meeting. Vida Walsh\, Saltoun Road
URL:https://www.brixtonsociety.org.uk/event/brixton-society-committee-meeting-45/
LOCATION:Vida Walsh Centre\, 2b Saltoun Road\, Brixton\, London\, SW2 1EP\, United Kingdom
CATEGORIES:Committee meeting
END:VEVENT
BEGIN:VEVENT
DTSTART;TZID=Europe/London:20230716T143000
DTEND;TZID=Europe/London:20230716T163000
DTSTAMP:20260423T134920
CREATED:20230203T100520Z
LAST-MODIFIED:20230518T175118Z
UID:3132-1689517800-1689525000@www.brixtonsociety.org.uk
SUMMARY:Heritage Walk - East Brixton
DESCRIPTION:Booking is essential. Details of meeting point\, and to book places please email: info@brixtonsociety.org.uk \n\n\n\n\n Add to calendar
URL:https://www.brixtonsociety.org.uk/event/heritage-walk-east-brixton/
LOCATION:Loughborough Junction Station\, Loughborough Road\, London\, SW9 8SA
CATEGORIES:Heritage walk
END:VEVENT
END:VCALENDAR