BEGIN:VCALENDAR
VERSION:2.0
PRODID:-//The Brixton Society - ECPv6.15.20//NONSGML v1.0//EN
CALSCALE:GREGORIAN
METHOD:PUBLISH
X-WR-CALNAME:The Brixton Society
X-ORIGINAL-URL:https://www.brixtonsociety.org.uk
X-WR-CALDESC:Events for The Brixton Society
REFRESH-INTERVAL;VALUE=DURATION:PT1H
X-Robots-Tag:noindex
X-PUBLISHED-TTL:PT1H
BEGIN:VTIMEZONE
TZID:Europe/London
BEGIN:DAYLIGHT
TZOFFSETFROM:+0000
TZOFFSETTO:+0100
TZNAME:BST
DTSTART:20220327T010000
END:DAYLIGHT
BEGIN:STANDARD
TZOFFSETFROM:+0100
TZOFFSETTO:+0000
TZNAME:GMT
DTSTART:20221030T010000
END:STANDARD
BEGIN:DAYLIGHT
TZOFFSETFROM:+0000
TZOFFSETTO:+0100
TZNAME:BST
DTSTART:20230326T010000
END:DAYLIGHT
BEGIN:STANDARD
TZOFFSETFROM:+0100
TZOFFSETTO:+0000
TZNAME:GMT
DTSTART:20231029T010000
END:STANDARD
BEGIN:DAYLIGHT
TZOFFSETFROM:+0000
TZOFFSETTO:+0100
TZNAME:BST
DTSTART:20240331T010000
END:DAYLIGHT
BEGIN:STANDARD
TZOFFSETFROM:+0100
TZOFFSETTO:+0000
TZNAME:GMT
DTSTART:20241027T010000
END:STANDARD
END:VTIMEZONE
BEGIN:VEVENT
DTSTART;TZID=Europe/London:20230907T180000
DTEND;TZID=Europe/London:20230907T200000
DTSTAMP:20260423T104020
CREATED:20230802T115918Z
LAST-MODIFIED:20230907T113026Z
UID:3331-1694109600-1694116800@www.brixtonsociety.org.uk
SUMMARY:Isnt it a Joy to Dance and Sing  -  a talk on Lambeth and Music Hall
DESCRIPTION:Isn’t it a Joy to Dance and Sing – a talk on Lambeth and Music Hall \nAlison Young\, a Music Hall historian\, Vice  Chair of the British Music Hall Society\, and a descendant of a lively collection of Lambeth-connected Music Hall performers\, will share some new stories from her own research into past theatrical residents and take the audience back to an Edwardian night out in Brixton. \nWe have been able to make a few more tickets available for this popular talk tonight. If people now find they cannot come please cancel your bookings. This may free up some extra places. Please don’t just turn up without booking! \nFREE but booking essential through Eventbrite. Book here
URL:https://www.brixtonsociety.org.uk/event/isnt-it-a-joy-to-dance-and-sing-a-talk-on-lambeth-and-music-hall/
LOCATION:Brixton Tate Library\, Windrush Square\, London\, SW2 1JQ\, United Kingdom
CATEGORIES:Open meeting
END:VEVENT
BEGIN:VEVENT
DTSTART;TZID=Europe/London:20230909T103000
DTEND;TZID=Europe/London:20230909T114500
DTSTAMP:20260423T104020
CREATED:20230116T131559Z
LAST-MODIFIED:20230908T111513Z
UID:3079-1694255400-1694259900@www.brixtonsociety.org.uk
SUMMARY:Brixton Market Heritage Walk
DESCRIPTION:A 75 minute walk taking in the street markets\, covered arcades and high street of this vibrant area.\ncost: £5 per adult. Advance booking essential\nBooking will be via Eventbrite here. \nThis walk is now fully booked. \nemail marketwalks@brixtonsociety.org.uk if you have other enquiries
URL:https://www.brixtonsociety.org.uk/event/brixton-market-heritage-walk-42/
LOCATION:Brixton Market\, By the Craft Beer Co\, London\, SW9 8PA\, United Kingdom
CATEGORIES:Heritage walk
END:VEVENT
BEGIN:VEVENT
DTSTART;TZID=Europe/London:20230914T190000
DTEND;TZID=Europe/London:20230914T210000
DTSTAMP:20260423T104020
CREATED:20230116T123857Z
LAST-MODIFIED:20230915T082937Z
UID:3051-1694718000-1694725200@www.brixtonsociety.org.uk
SUMMARY:Brixton Society Committee Meeting - cancelled
DESCRIPTION:Committee meeting\, Vida Walsh Saltoun Road
URL:https://www.brixtonsociety.org.uk/event/brixton-society-committee-meeting-47/
LOCATION:Vida Walsh Centre\, 2b Saltoun Road\, Brixton\, London\, SW2 1EP\, United Kingdom
CATEGORIES:Committee meeting
END:VEVENT
BEGIN:VEVENT
DTSTART;TZID=Europe/London:20230917T100000
DTEND;TZID=Europe/London:20230917T120000
DTSTAMP:20260423T104020
CREATED:20230802T112532Z
LAST-MODIFIED:20230915T082708Z
UID:3329-1694944800-1694952000@www.brixtonsociety.org.uk
SUMMARY:Urban Sketching with the Brixton Society- closed to booking
DESCRIPTION:Join two Brixton Society members for pointers and hear about the history of what you want to draw. No pressure and no prizes\, just a lovely opportunity to come together and have a go at sketching with a little bit of history included. Bring a small sketchbook or clipboard and paper\, pencil and rubber and any other materials you need. Free\, but places limited. To book and find out where to meet depending on weather.  email: sketch@brixtonsociety.org.uk \nThis event is fully booked.
URL:https://www.brixtonsociety.org.uk/event/urban-sketching-with-the-brixton-society/
LOCATION:Brixton Market\, By the Craft Beer Co\, London\, SW9 8PA\, United Kingdom
END:VEVENT
BEGIN:VEVENT
DTSTART;TZID=Europe/London:20230917T143000
DTEND;TZID=Europe/London:20230917T163000
DTSTAMP:20260423T104020
CREATED:20230203T101011Z
LAST-MODIFIED:20230915T082820Z
UID:3138-1694961000-1694968200@www.brixtonsociety.org.uk
SUMMARY:Heritage Walk - Tracing the River Effra now closed to booking
DESCRIPTION:Please note this walk is now full and no more bookings are being taken. \nBooking is essential. Details of meeting point\, and to book places please email: info@brixtonsociety.org.uk \n\n\n\n\n Add to calendar
URL:https://www.brixtonsociety.org.uk/event/heritage-walk-tracing-the-river-effra/
LOCATION:Brixton Police Station\, 367 Brixton Road\, London\, SW9 7DD\, United Kingdom
CATEGORIES:Heritage walk
END:VEVENT
BEGIN:VEVENT
DTSTART;TZID=Europe/London:20230924T143000
DTEND;TZID=Europe/London:20230924T160000
DTSTAMP:20260423T104020
CREATED:20230802T121323Z
LAST-MODIFIED:20230802T121323Z
UID:3333-1695565800-1695571200@www.brixtonsociety.org.uk
SUMMARY:Heritage walk - Stockwell Green
DESCRIPTION:The oldest hamlet in the Brixton area once had two breweries\, two places of worship\, two schools\, and three pubs; and what happened to the village green? Find out in this gentle\, Sunday afternoon walk led by Bill Linskey. \nFREE Booking essential email: bill@linskey.org.uk
URL:https://www.brixtonsociety.org.uk/event/heritage-walk-stockwell-green-3/
LOCATION:Costcutter\, Oak Square\, Stockwell Green\, London\, SW9 9JF\, United Kingdom
CATEGORIES:Heritage walk
END:VEVENT
END:VCALENDAR