BEGIN:VCALENDAR
VERSION:2.0
PRODID:-//The Brixton Society - ECPv6.15.20//NONSGML v1.0//EN
CALSCALE:GREGORIAN
METHOD:PUBLISH
X-ORIGINAL-URL:https://www.brixtonsociety.org.uk
X-WR-CALDESC:Events for The Brixton Society
REFRESH-INTERVAL;VALUE=DURATION:PT1H
X-Robots-Tag:noindex
X-PUBLISHED-TTL:PT1H
BEGIN:VTIMEZONE
TZID:Europe/London
BEGIN:DAYLIGHT
TZOFFSETFROM:+0000
TZOFFSETTO:+0100
TZNAME:BST
DTSTART:20220327T010000
END:DAYLIGHT
BEGIN:STANDARD
TZOFFSETFROM:+0100
TZOFFSETTO:+0000
TZNAME:GMT
DTSTART:20221030T010000
END:STANDARD
BEGIN:DAYLIGHT
TZOFFSETFROM:+0000
TZOFFSETTO:+0100
TZNAME:BST
DTSTART:20230326T010000
END:DAYLIGHT
BEGIN:STANDARD
TZOFFSETFROM:+0100
TZOFFSETTO:+0000
TZNAME:GMT
DTSTART:20231029T010000
END:STANDARD
BEGIN:DAYLIGHT
TZOFFSETFROM:+0000
TZOFFSETTO:+0100
TZNAME:BST
DTSTART:20240331T010000
END:DAYLIGHT
BEGIN:STANDARD
TZOFFSETFROM:+0100
TZOFFSETTO:+0000
TZNAME:GMT
DTSTART:20241027T010000
END:STANDARD
END:VTIMEZONE
BEGIN:VEVENT
DTSTART;TZID=Europe/London:20231209T143000
DTEND;TZID=Europe/London:20231209T154500
DTSTAMP:20260423T054525
CREATED:20230116T131846Z
LAST-MODIFIED:20231117T134723Z
UID:3085-1702132200-1702136700@www.brixtonsociety.org.uk
SUMMARY:Brixton Market Heritage Walk
DESCRIPTION:A 75 minute walk taking in the street markets\, covered arcades and high street of this vibrant area. The meeting point and walk details will be sent by e-mail  to ticket holders a day or two before the walk. cost: £5 per adult. Advance booking essential\, booking will close 13.30 on 8 December. Please book early.\nBooking is via Eventbrite here. \nemail marketwalks@brixtonsociety.org.uk if you have other enquiries
URL:https://www.brixtonsociety.org.uk/event/brixton-market-heritage-walk-44/
LOCATION:Brixton Market\, By the Craft Beer Co\, London\, SW9 8PA\, United Kingdom
CATEGORIES:Heritage walk
END:VEVENT
BEGIN:VEVENT
DTSTART;TZID=Europe/London:20231214T190000
DTEND;TZID=Europe/London:20231214T210000
DTSTAMP:20260423T054525
CREATED:20230116T124322Z
LAST-MODIFIED:20231110T100936Z
UID:3057-1702580400-1702587600@www.brixtonsociety.org.uk
SUMMARY:Brixton Society Committee Meeting - No meeting this month
DESCRIPTION:Monthly Committee meeting is not taking place in December
URL:https://www.brixtonsociety.org.uk/event/brixton-society-committee-meeting-50/
CATEGORIES:Committee meeting
END:VEVENT
END:VCALENDAR