BEGIN:VCALENDAR
VERSION:2.0
PRODID:-//The Brixton Society - ECPv6.15.20//NONSGML v1.0//EN
CALSCALE:GREGORIAN
METHOD:PUBLISH
X-WR-CALNAME:The Brixton Society
X-ORIGINAL-URL:https://www.brixtonsociety.org.uk
X-WR-CALDESC:Events for The Brixton Society
REFRESH-INTERVAL;VALUE=DURATION:PT1H
X-Robots-Tag:noindex
X-PUBLISHED-TTL:PT1H
BEGIN:VTIMEZONE
TZID:Europe/London
BEGIN:DAYLIGHT
TZOFFSETFROM:+0000
TZOFFSETTO:+0100
TZNAME:BST
DTSTART:20230326T010000
END:DAYLIGHT
BEGIN:STANDARD
TZOFFSETFROM:+0100
TZOFFSETTO:+0000
TZNAME:GMT
DTSTART:20231029T010000
END:STANDARD
BEGIN:DAYLIGHT
TZOFFSETFROM:+0000
TZOFFSETTO:+0100
TZNAME:BST
DTSTART:20240331T010000
END:DAYLIGHT
BEGIN:STANDARD
TZOFFSETFROM:+0100
TZOFFSETTO:+0000
TZNAME:GMT
DTSTART:20241027T010000
END:STANDARD
BEGIN:DAYLIGHT
TZOFFSETFROM:+0000
TZOFFSETTO:+0100
TZNAME:BST
DTSTART:20250330T010000
END:DAYLIGHT
BEGIN:STANDARD
TZOFFSETFROM:+0100
TZOFFSETTO:+0000
TZNAME:GMT
DTSTART:20251026T010000
END:STANDARD
END:VTIMEZONE
BEGIN:VEVENT
DTSTART;TZID=Europe/London:20240608T143000
DTEND;TZID=Europe/London:20240608T160000
DTSTAMP:20260422T193539
CREATED:20240117T124206Z
LAST-MODIFIED:20240321T095148Z
UID:3405-1717857000-1717862400@www.brixtonsociety.org.uk
SUMMARY:Brixton Market Heritage Walk
DESCRIPTION:A 90 minute walk around Brixton Market. The tour shows how shopping grew from nothing to make Brixton South London’s biggest shopping centre by the 1920s. The development of shopping was one of the key elements in the development of Brixton and a vital part of its history. We explore this development as we walk through the various markets and shopping areas. meeting point and walk details will be sent by e-mail to ticket holders before the walk. \nCost £5 per adult. Advance booking is essential. \nBooking is via Eventbrite only. Booking here \nemail marketwalks@brixtonsociety.org.uk if you have other enquiries.
URL:https://www.brixtonsociety.org.uk/event/brixton-market-heritage-walk-51/
LOCATION:Brixton Market\, By the Craft Beer Co\, London\, SW9 8PA\, United Kingdom
END:VEVENT
BEGIN:VEVENT
DTSTART;TZID=Europe/London:20240613T190000
DTEND;TZID=Europe/London:20240613T210000
DTSTAMP:20260422T193539
CREATED:20240117T125831Z
LAST-MODIFIED:20240117T130102Z
UID:3430-1718305200-1718312400@www.brixtonsociety.org.uk
SUMMARY:Brixton Society Annual General Meeting
DESCRIPTION:Brixton Society Annual General Meeting. Venue to be confirmed. Open to all members
URL:https://www.brixtonsociety.org.uk/event/brixton-society-committee-meeting-59/
CATEGORIES:Open meeting
END:VEVENT
BEGIN:VEVENT
DTSTART;TZID=Europe/London:20240616T143000
DTEND;TZID=Europe/London:20240616T163000
DTSTAMP:20260422T193539
CREATED:20240119T164150Z
LAST-MODIFIED:20240119T164150Z
UID:3449-1718548200-1718555400@www.brixtonsociety.org.uk
SUMMARY:Heritage Walk - 20th Century Buildings of Brixton
DESCRIPTION:Booking is essential. Details of meeting point\, and to book places please email: info@brixtonsociety.org.uk
URL:https://www.brixtonsociety.org.uk/event/heritage-walk-20th-century-buildings-of-brixton/
LOCATION:Brixton Police Station\, 367 Brixton Road\, London\, SW9 7DD\, United Kingdom
CATEGORIES:Heritage walk
END:VEVENT
BEGIN:VEVENT
DTSTART;TZID=Europe/London:20240623T100000
DTEND;TZID=Europe/London:20240623T120000
DTSTAMP:20260422T193539
CREATED:20240529T105157Z
LAST-MODIFIED:20240529T105302Z
UID:3565-1719136800-1719144000@www.brixtonsociety.org.uk
SUMMARY:Urban Sketching with the Brixton Society
DESCRIPTION:Urban Sketching with the Brixton Society \nJoin two Brixton Society members for pointers and hear about the history of what you want to draw. No pressure and no prizes\, just a lovely opportunity to come together and have a go at sketching with a little bit of history included. Bring a small sketchbook or clipboard and paper\, pencil and rubber and any other materials you need. \nFree\, but places limited. To book and find out where to meet depending on weather.  email: sketch@brixtonsociety.org.uk
URL:https://www.brixtonsociety.org.uk/event/urban-sketching-with-the-brixton-society-2/
CATEGORIES:Other
END:VEVENT
BEGIN:VEVENT
DTSTART;TZID=Europe/London:20240623T143000
DTEND;TZID=Europe/London:20240623T163000
DTSTAMP:20260422T193539
CREATED:20240206T175557Z
LAST-MODIFIED:20240206T175557Z
UID:3468-1719153000-1719160200@www.brixtonsociety.org.uk
SUMMARY:Heritage Walk - Brixton's Blue Plaques
DESCRIPTION:Led by Bill Linskey \nBrixton’s Blue Plaques. Around the middle of Brixton there are many plaques – blue and otherwise – commemorating notable people and events. Find out about them on this walk. Meet outside Brixton Underground station\nBooking essential. please e-mail: bill@linskey.org.uk. \n 
URL:https://www.brixtonsociety.org.uk/event/heritage-walk-brixtons-blue-plaques-3/
LOCATION:Brixton Underground Station
CATEGORIES:Heritage walk
END:VEVENT
END:VCALENDAR