BEGIN:VCALENDAR
VERSION:2.0
PRODID:-//The Brixton Society - ECPv6.15.20//NONSGML v1.0//EN
CALSCALE:GREGORIAN
METHOD:PUBLISH
X-ORIGINAL-URL:https://www.brixtonsociety.org.uk
X-WR-CALDESC:Events for The Brixton Society
REFRESH-INTERVAL;VALUE=DURATION:PT1H
X-Robots-Tag:noindex
X-PUBLISHED-TTL:PT1H
BEGIN:VTIMEZONE
TZID:Europe/London
BEGIN:DAYLIGHT
TZOFFSETFROM:+0000
TZOFFSETTO:+0100
TZNAME:BST
DTSTART:20230326T010000
END:DAYLIGHT
BEGIN:STANDARD
TZOFFSETFROM:+0100
TZOFFSETTO:+0000
TZNAME:GMT
DTSTART:20231029T010000
END:STANDARD
BEGIN:DAYLIGHT
TZOFFSETFROM:+0000
TZOFFSETTO:+0100
TZNAME:BST
DTSTART:20240331T010000
END:DAYLIGHT
BEGIN:STANDARD
TZOFFSETFROM:+0100
TZOFFSETTO:+0000
TZNAME:GMT
DTSTART:20241027T010000
END:STANDARD
BEGIN:DAYLIGHT
TZOFFSETFROM:+0000
TZOFFSETTO:+0100
TZNAME:BST
DTSTART:20250330T010000
END:DAYLIGHT
BEGIN:STANDARD
TZOFFSETFROM:+0100
TZOFFSETTO:+0000
TZNAME:GMT
DTSTART:20251026T010000
END:STANDARD
END:VTIMEZONE
BEGIN:VEVENT
DTSTART;TZID=Europe/London:20240707T143000
DTEND;TZID=Europe/London:20240707T163000
DTSTAMP:20260422T175252
CREATED:20240119T164320Z
LAST-MODIFIED:20240119T164320Z
UID:3451-1720362600-1720369800@www.brixtonsociety.org.uk
SUMMARY:Heritage Walk - Brixton's beginings
DESCRIPTION:Booking is essential. Details of meeting point\, and to book places please email: info@brixtonsociety.org.uk
URL:https://www.brixtonsociety.org.uk/event/heritage-walk-brixtons-beginings/
LOCATION:Brixton Tate Library\, Windrush Square\, London\, SW2 1JQ\, United Kingdom
CATEGORIES:Heritage walk
END:VEVENT
BEGIN:VEVENT
DTSTART;TZID=Europe/London:20240711T190000
DTEND;TZID=Europe/London:20240711T210000
DTSTAMP:20260422T175252
CREATED:20240117T125912Z
LAST-MODIFIED:20240117T125912Z
UID:3432-1720724400-1720731600@www.brixtonsociety.org.uk
SUMMARY:Brixton Society Committee Meeting
DESCRIPTION:Brixton Society Committee Meeting. Vida Walsh Centre Saltoun Road
URL:https://www.brixtonsociety.org.uk/event/brixton-society-committee-meeting-60/
LOCATION:Vida Walsh Centre\, 2b Saltoun Road\, Brixton\, London\, SW2 1EP\, United Kingdom
CATEGORIES:Committee meeting
END:VEVENT
BEGIN:VEVENT
DTSTART;TZID=Europe/London:20240713T143000
DTEND;TZID=Europe/London:20240713T160000
DTSTAMP:20260422T175252
CREATED:20240117T124255Z
LAST-MODIFIED:20240321T095328Z
UID:3407-1720881000-1720886400@www.brixtonsociety.org.uk
SUMMARY:Brixton Market Heritage Walk
DESCRIPTION:A 90 minute walk around Brixton Market. The tour shows how shopping grew from nothing to make Brixton South London’s biggest shopping centre by the 1920s. The development of shopping was one of the key elements in the development of Brixton and a vital part of its history. We explore this development as we walk through the various markets and shopping areas. meeting point and walk details will be sent by e-mail to ticket holders before the walk. \nCost £5 per adult. Advance booking is essential. \nBooking is via Eventbrite only. Booking here \nemail marketwalks@brixtonsociety.org.uk if you have other enquiries.
URL:https://www.brixtonsociety.org.uk/event/brixton-market-heritage-walk-52/
LOCATION:Brixton Market\, By the Craft Beer Co\, London\, SW9 8PA\, United Kingdom
CATEGORIES:Heritage walk
END:VEVENT
BEGIN:VEVENT
DTSTART;TZID=Europe/London:20240714T130000
DTEND;TZID=Europe/London:20240714T180000
DTSTAMP:20260422T175252
CREATED:20240529T110155Z
LAST-MODIFIED:20240529T110257Z
UID:3568-1720962000-1720980000@www.brixtonsociety.org.uk
SUMMARY:Kennington Park Festival
DESCRIPTION:For the third year running\, the Friends of Kennington Park – in partnership with Melanin Health and Wellness – will be holding Kennington Park Festival. This year the Brixton Society will have a stall where you can renew your membership\, buy our range of books and postcards and talk to members. Do come along and support us and the Friends of Kennington Park.
URL:https://www.brixtonsociety.org.uk/event/kennington-park-festival/
LOCATION:Kennington Park SE11 4BE\, Kennington Park Road\, London\, SE11 4BE\, United Kingdom
CATEGORIES:Other
ORGANIZER;CN="Friends of Kennington Park":MAILTO:friends@kenningtonpark.org
END:VEVENT
END:VCALENDAR