BEGIN:VCALENDAR
VERSION:2.0
PRODID:-//The Brixton Society - ECPv6.15.20//NONSGML v1.0//EN
CALSCALE:GREGORIAN
METHOD:PUBLISH
X-WR-CALNAME:The Brixton Society
X-ORIGINAL-URL:https://www.brixtonsociety.org.uk
X-WR-CALDESC:Events for The Brixton Society
REFRESH-INTERVAL;VALUE=DURATION:PT1H
X-Robots-Tag:noindex
X-PUBLISHED-TTL:PT1H
BEGIN:VTIMEZONE
TZID:Europe/London
BEGIN:DAYLIGHT
TZOFFSETFROM:+0000
TZOFFSETTO:+0100
TZNAME:BST
DTSTART:20230326T010000
END:DAYLIGHT
BEGIN:STANDARD
TZOFFSETFROM:+0100
TZOFFSETTO:+0000
TZNAME:GMT
DTSTART:20231029T010000
END:STANDARD
BEGIN:DAYLIGHT
TZOFFSETFROM:+0000
TZOFFSETTO:+0100
TZNAME:BST
DTSTART:20240331T010000
END:DAYLIGHT
BEGIN:STANDARD
TZOFFSETFROM:+0100
TZOFFSETTO:+0000
TZNAME:GMT
DTSTART:20241027T010000
END:STANDARD
BEGIN:DAYLIGHT
TZOFFSETFROM:+0000
TZOFFSETTO:+0100
TZNAME:BST
DTSTART:20250330T010000
END:DAYLIGHT
BEGIN:STANDARD
TZOFFSETFROM:+0100
TZOFFSETTO:+0000
TZNAME:GMT
DTSTART:20251026T010000
END:STANDARD
END:VTIMEZONE
BEGIN:VEVENT
DTSTART;TZID=Europe/London:20240901T100000
DTEND;TZID=Europe/London:20240901T123000
DTSTAMP:20260422T143150
CREATED:20240829T113113Z
LAST-MODIFIED:20240829T113113Z
UID:3609-1725184800-1725193800@www.brixtonsociety.org.uk
SUMMARY:Urban Sketching with the Brixton Society
DESCRIPTION:Urban Sketching with the Brixton Society \nWhether you are experienced or a first-timer at urban sketching\, join two Brixton Society members for some pointers and hear about the history of what you want to draw. An opportunity to have a go at sketching with a little bit of history included. Bring a small sketchbook or clipboard and paper\, pencil and rubber. \nFree\, but places limited. To book and find out where to meet depending on weather.  email: sketch@brixtonsociety.org.uk
URL:https://www.brixtonsociety.org.uk/event/urban-sketching-with-the-brixton-society-3/
LOCATION:Brixton Market\, By the Craft Beer Co\, London\, SW9 8PA\, United Kingdom
CATEGORIES:Other
END:VEVENT
BEGIN:VEVENT
DTSTART;TZID=Europe/London:20240904T183000
DTEND;TZID=Europe/London:20240904T203000
DTSTAMP:20260422T143150
CREATED:20240829T115752Z
LAST-MODIFIED:20240829T115919Z
UID:3611-1725474600-1725481800@www.brixtonsociety.org.uk
SUMMARY:Loughborough Road Pubs: then\, now and in between
DESCRIPTION:An illustrated talk by Brixton Society and local historian Tracey Gregory exploring the history of pubs on one Brixton street. From coaching inns and court houses to music venues\, galleries and homes – the changing face  of pubs on Loughborough Road\, SW9. \nFree\, booking essential through eventbrite here
URL:https://www.brixtonsociety.org.uk/event/loughborough-road-pubs-then-now-and-in-between/
LOCATION:San Mei Gallery\, former Loughborough Hotel\, corner of Evandale and Loughborough Roads\, London\, SW9 7TB.
CATEGORIES:History talk
END:VEVENT
BEGIN:VEVENT
DTSTART;TZID=Europe/London:20240907T100000
DTEND;TZID=Europe/London:20240907T163000
DTSTAMP:20260422T143150
CREATED:20240812T114733Z
LAST-MODIFIED:20240812T114738Z
UID:3604-1725703200-1725726600@www.brixtonsociety.org.uk
SUMMARY:Lambeth Local History Fair
DESCRIPTION:This year the Local History Fair is being held in St Leonard’s Church\, Streatham High Road\, SW16 1HS. The Brixton Society will have a stall there. Do come and visit us\, renew your membership\, and enjoy the walks\, talks\, and other stalls at the Fair.
URL:https://www.brixtonsociety.org.uk/event/lambeth-local-history-fair-3/
LOCATION:St Leonard’s church\, Streatham High Road\, London\, SW16 1HS
CATEGORIES:Heritage walk,History talk,Other
END:VEVENT
BEGIN:VEVENT
DTSTART;TZID=Europe/London:20240912T183000
DTEND;TZID=Europe/London:20240912T193000
DTSTAMP:20260422T143150
CREATED:20240117T130455Z
LAST-MODIFIED:20240731T134038Z
UID:3438-1726165800-1726169400@www.brixtonsociety.org.uk
SUMMARY:Author event: Revolutionary Acts: Love & Brotherhood in Black Gay Britain
DESCRIPTION:Author event: Revolutionary Acts: Love & Brotherhood in Black Gay Britain: \n\n\n\n\nIn this landmark work\, the author Jason Okundaye meets an elder generation of Black gay men in Brixton and finds a spirited community full of courage\, charisma and good humour\, hungry to tell its past – of nightlife\, resistance\, political fights\, loss\, gossip\, sex\, romance and vulgarity. Through their conversations he seeks to reconcile the black and gay narratives of Britain\, narratives frequently cleaved as distinct and unrelated. \n\nFree but booking essential through eventbrite here
URL:https://www.brixtonsociety.org.uk/event/brixton-society-committee-meeting-53/
END:VEVENT
BEGIN:VEVENT
DTSTART;TZID=Europe/London:20240914T143000
DTEND;TZID=Europe/London:20240914T160000
DTSTAMP:20260422T143150
CREATED:20240117T124513Z
LAST-MODIFIED:20240609T110741Z
UID:3411-1726324200-1726329600@www.brixtonsociety.org.uk
SUMMARY:Brixton Market Heritage Walk
DESCRIPTION:A 90 minute walk around Brixton Market. The tour shows how shopping grew from nothing to make Brixton South London’s biggest shopping centre by the 1920s. The development of shopping was one of the key elements in the development of Brixton and a vital part of its history. We explore this development as we walk through the various markets and shopping areas. meeting point and walk details will be sent by e-mail to ticket holders before the walk. \nCost £5 per adult. Advance booking is essential. \nBooking is via Eventbrite only. Booking here \nemail marketwalks@brixtonsociety.org.uk if you have other enquiries.
URL:https://www.brixtonsociety.org.uk/event/brixton-market-heritage-walk-54/
LOCATION:Brixton Market\, By the Craft Beer Co\, London\, SW9 8PA\, United Kingdom
CATEGORIES:Heritage walk
END:VEVENT
BEGIN:VEVENT
DTSTART;TZID=Europe/London:20240915T143000
DTEND;TZID=Europe/London:20240915T163000
DTSTAMP:20260422T143150
CREATED:20240119T164922Z
LAST-MODIFIED:20240119T164922Z
UID:3456-1726410600-1726417800@www.brixtonsociety.org.uk
SUMMARY:Heritage Walk - West Brixton
DESCRIPTION:Booking is essential. Details of meeting point\, and to book places please email: info@brixtonsociety.org.uk
URL:https://www.brixtonsociety.org.uk/event/heritage-walk-west-brixton-2/
LOCATION:Tunstall Road\, Tunstall Road\, London\, SW9
CATEGORIES:Heritage walk
END:VEVENT
BEGIN:VEVENT
DTSTART;TZID=Europe/London:20240922T143000
DTEND;TZID=Europe/London:20240922T163000
DTSTAMP:20260422T143150
CREATED:20240206T175838Z
LAST-MODIFIED:20240921T165634Z
UID:3470-1727015400-1727022600@www.brixtonsociety.org.uk
SUMMARY:Heritage Walk - Stockwell Green this walk is fully booked
DESCRIPTION:The oldest hamlet in the Brixton area once had two breweries\, two places of worship\, two schools\, and three pubs; and what happened to the village green? Find out in this gentle\, Sunday afternoon walk led by Bill Linskey. \nThis walk is now fully booked. \nbill@linskey.org.uk
URL:https://www.brixtonsociety.org.uk/event/heritage-walk-stockwell-green-2/
LOCATION:Costcutter\, Oak Square\, Stockwell Green\, London\, SW9 9JF\, United Kingdom
CATEGORIES:Heritage walk
END:VEVENT
END:VCALENDAR