BEGIN:VCALENDAR
VERSION:2.0
PRODID:-//The Brixton Society - ECPv6.15.20//NONSGML v1.0//EN
CALSCALE:GREGORIAN
METHOD:PUBLISH
X-ORIGINAL-URL:https://www.brixtonsociety.org.uk
X-WR-CALDESC:Events for The Brixton Society
REFRESH-INTERVAL;VALUE=DURATION:PT1H
X-Robots-Tag:noindex
X-PUBLISHED-TTL:PT1H
BEGIN:VTIMEZONE
TZID:Europe/London
BEGIN:DAYLIGHT
TZOFFSETFROM:+0000
TZOFFSETTO:+0100
TZNAME:BST
DTSTART:20250330T010000
END:DAYLIGHT
BEGIN:STANDARD
TZOFFSETFROM:+0100
TZOFFSETTO:+0000
TZNAME:GMT
DTSTART:20251026T010000
END:STANDARD
BEGIN:DAYLIGHT
TZOFFSETFROM:+0000
TZOFFSETTO:+0100
TZNAME:BST
DTSTART:20260329T010000
END:DAYLIGHT
BEGIN:STANDARD
TZOFFSETFROM:+0100
TZOFFSETTO:+0000
TZNAME:GMT
DTSTART:20261025T010000
END:STANDARD
BEGIN:DAYLIGHT
TZOFFSETFROM:+0000
TZOFFSETTO:+0100
TZNAME:BST
DTSTART:20270328T010000
END:DAYLIGHT
BEGIN:STANDARD
TZOFFSETFROM:+0100
TZOFFSETTO:+0000
TZNAME:GMT
DTSTART:20271031T010000
END:STANDARD
END:VTIMEZONE
BEGIN:VEVENT
DTSTART;TZID=Europe/London:20260607T110000
DTEND;TZID=Europe/London:20260607T123000
DTSTAMP:20260420T124809
CREATED:20260404T150050Z
LAST-MODIFIED:20260404T150050Z
UID:4013-1780830000-1780835400@www.brixtonsociety.org.uk
SUMMARY:Urban Sketching with the Brixton Society
DESCRIPTION:Urban sketching invites us to look closely at the city we share. In Brixton—a place shaped by many voices and histories —we will gather to draw the streets\, buildings\, and everyday moments that make this neighbourhood unique. By sketching together\, participants will connect with place and with each other\, observing the details that are often overlooked in the rush of city life and hear about the history of some of these buildings. This small act of creative attention reflects the spirit of the London Festival of Architecture: celebrating lived experience and reclaiming public space.\nA member of the Brixton Society will be waiting for you at the bottom of the steps to the Brixton Rec from 10.50am.\nThis event lasts 90 minutes\, if the weather is fine we will be outside. You may like to sit on the steps of Brixton Rec for the the first sketch\, or stand. The second sketching point is standing only with public toilets nearby. The third stop provides some limited outdoor seating.\nEach sketching session is approximately 20 minutes and the route itself is 250ms which includes public realm\, pavement and crossing some roads. If the weather is wet we have an alternative undercover route\, stop 2 will be near public toilets. Parking is limited in Brixton and we recommend that where possible you travel to the event by public transport\, on foot\, cycling or wheeling. Brixton train station\, Brixton tube and a variety of bus stops are all within a short walk. \nFree but Booking essential via Eventbrite here: \nQueries or further information from: sketch@brixtonsociety.org.uk. If the event is fully booked contact marketwalks@brixtonsociety.org.uk to go on a waiting list.
URL:https://www.brixtonsociety.org.uk/event/urban-sketching-with-the-brixton-society-5/
LOCATION:Brixton Market\, By the Craft Beer Co\, London\, SW9 8PA\, United Kingdom
CATEGORIES:Other
END:VEVENT
BEGIN:VEVENT
DTSTART;TZID=Europe/London:20260611T190000
DTEND;TZID=Europe/London:20260611T210000
DTSTAMP:20260420T124809
CREATED:20260104T152655Z
LAST-MODIFIED:20260104T152655Z
UID:3851-1781204400-1781211600@www.brixtonsociety.org.uk
SUMMARY:Brixton Society Annual General Meeting
DESCRIPTION:Brixton Society Annual General Meeting – all Brixton Society members welcome
URL:https://www.brixtonsociety.org.uk/event/brixton-society-annual-general-meeting-6/
LOCATION:Vida Walsh Centre\, 2b Saltoun Road\, Brixton\, London\, SW2 1EP\, United Kingdom
CATEGORIES:Committee meeting,Other
END:VEVENT
BEGIN:VEVENT
DTSTART;TZID=Europe/London:20260613T143000
DTEND;TZID=Europe/London:20260613T160000
DTSTAMP:20260420T124809
CREATED:20260404T151414Z
LAST-MODIFIED:20260405T143348Z
UID:4018-1781361000-1781366400@www.brixtonsociety.org.uk
SUMMARY:Brixton Market Heritage Walk
DESCRIPTION:A 90 minute walk around Brixton Market. The tour shows how shopping grew from nothing to make Brixton South London’s biggest shopping centre by the 1920s. The development of shopping was one of the key elements in the development of Brixton and a vital part of its history. We explore this development as we walk through the various markets and shopping areas. meeting point and walk details will be sent by e-mail to ticket holders before the walk. \n\n\n\nCost £5 per adult. Advance booking is essential through Eventbrite here \nemail marketwalks@brixtonsociety.org.uk if you have other enquiries.
URL:https://www.brixtonsociety.org.uk/event/brixton-market-walk-4/
LOCATION:Brixton Market\, By the Craft Beer Co\, London\, SW9 8PA\, United Kingdom
CATEGORIES:Heritage walk
END:VEVENT
BEGIN:VEVENT
DTSTART;TZID=Europe/London:20260621T143000
DTEND;TZID=Europe/London:20260621T163000
DTSTAMP:20260420T124809
CREATED:20260404T143143Z
LAST-MODIFIED:20260404T143143Z
UID:4002-1782052200-1782059400@www.brixtonsociety.org.uk
SUMMARY:Heritage Walk - Stockwell Park
DESCRIPTION:Discovering the history of the Stockwell Park area SW9 with Alan Piper of Brixton Society \n  \nFREE but booking essential via Eventbrite here \nIf the walk has sold out please contact marketwalks@brixtonsociety.org.uk to go on a waiting list.
URL:https://www.brixtonsociety.org.uk/event/heritage-walk-stockwell-park-2/
LOCATION:Stockwell War Memorial\, Clapham Road\, London\, SE11 4PP\, United Kingdom
CATEGORIES:Heritage walk
END:VEVENT
END:VCALENDAR