BEGIN:VCALENDAR
VERSION:2.0
PRODID:-//The Brixton Society - ECPv6.15.20//NONSGML v1.0//EN
CALSCALE:GREGORIAN
METHOD:PUBLISH
X-WR-CALNAME:The Brixton Society
X-ORIGINAL-URL:https://www.brixtonsociety.org.uk
X-WR-CALDESC:Events for The Brixton Society
REFRESH-INTERVAL;VALUE=DURATION:PT1H
X-Robots-Tag:noindex
X-PUBLISHED-TTL:PT1H
BEGIN:VTIMEZONE
TZID:Europe/London
BEGIN:DAYLIGHT
TZOFFSETFROM:+0000
TZOFFSETTO:+0100
TZNAME:BST
DTSTART:20250330T010000
END:DAYLIGHT
BEGIN:STANDARD
TZOFFSETFROM:+0100
TZOFFSETTO:+0000
TZNAME:GMT
DTSTART:20251026T010000
END:STANDARD
BEGIN:DAYLIGHT
TZOFFSETFROM:+0000
TZOFFSETTO:+0100
TZNAME:BST
DTSTART:20260329T010000
END:DAYLIGHT
BEGIN:STANDARD
TZOFFSETFROM:+0100
TZOFFSETTO:+0000
TZNAME:GMT
DTSTART:20261025T010000
END:STANDARD
BEGIN:DAYLIGHT
TZOFFSETFROM:+0000
TZOFFSETTO:+0100
TZNAME:BST
DTSTART:20270328T010000
END:DAYLIGHT
BEGIN:STANDARD
TZOFFSETFROM:+0100
TZOFFSETTO:+0000
TZNAME:GMT
DTSTART:20271031T010000
END:STANDARD
END:VTIMEZONE
BEGIN:VEVENT
DTSTART;TZID=Europe/London:20260705T143000
DTEND;TZID=Europe/London:20260705T163000
DTSTAMP:20260420T142402
CREATED:20260404T141437Z
LAST-MODIFIED:20260404T141917Z
UID:3997-1783261800-1783269000@www.brixtonsociety.org.uk
SUMMARY:Brixton's Plaques (Blue and Otherwise)
DESCRIPTION:A walk around Brixton’s plaques – Blue and otherwise.  There are plaques all around Brixton commemorating some of the incredible past residents: from the official English Heritage blue plaques to plaques installed by members of the community. All highlight the significant contribution that people have made to the local area and nationally: from activists and campaigners to scientists and artists. Join Bill Linskey of the the Brixton Society on a walk around Brixton to spot the plaques and hear more about the people they feature. \nFree but Booking essential via Eventbrite here \nif the walk is full there will be a waiting list. \nAny queries contact marketwalks@brixtonsociety.org.uk
URL:https://www.brixtonsociety.org.uk/event/brixtons-plaques-blue-and-otherwise-2/
LOCATION:Brixton Underground Station
CATEGORIES:Heritage walk
END:VEVENT
BEGIN:VEVENT
DTSTART;TZID=Europe/London:20260709T190000
DTEND;TZID=Europe/London:20260709T210000
DTSTAMP:20260420T142402
CREATED:20260104T152746Z
LAST-MODIFIED:20260104T152753Z
UID:3853-1783623600-1783630800@www.brixtonsociety.org.uk
SUMMARY:Brixton Society Committee Meeting
DESCRIPTION:Brixton Society Committee Meeting
URL:https://www.brixtonsociety.org.uk/event/brixton-society-committee-meeting-78/
LOCATION:Vida Walsh Centre\, 2b Saltoun Road\, Brixton\, London\, SW2 1EP\, United Kingdom
CATEGORIES:Committee meeting
END:VEVENT
BEGIN:VEVENT
DTSTART;TZID=Europe/London:20260711T143000
DTEND;TZID=Europe/London:20260711T160000
DTSTAMP:20260420T142402
CREATED:20260404T154713Z
LAST-MODIFIED:20260405T143425Z
UID:4021-1783780200-1783785600@www.brixtonsociety.org.uk
SUMMARY:Brixton Market Heritage Walk
DESCRIPTION:A 90 minute walk around Brixton Market. The tour shows how shopping grew from nothing to make Brixton South London’s biggest shopping centre by the 1920s. The development of shopping was one of the key elements in the development of Brixton and a vital part of its history. We explore this development as we walk through the various markets and shopping areas. meeting point and walk details will be sent by e-mail to ticket holders before the walk. \n\n\n\nCost £5 per adult. Advance booking is essential through Eventbrite here \nemail marketwalks@brixtonsociety.org.uk if you have other enquiries.
URL:https://www.brixtonsociety.org.uk/event/brixton-market-heritage-walk-67/
LOCATION:Brixton Market\, By the Craft Beer Co\, London\, SW9 8PA\, United Kingdom
CATEGORIES:Heritage walk
END:VEVENT
BEGIN:VEVENT
DTSTART;TZID=Europe/London:20260719T143000
DTEND;TZID=Europe/London:20260719T163000
DTSTAMP:20260420T142402
CREATED:20260404T142549Z
LAST-MODIFIED:20260404T142549Z
UID:4000-1784471400-1784478600@www.brixtonsociety.org.uk
SUMMARY:Heritage Walk - West Brixton
DESCRIPTION:A guided walk exploring events\, lost buildings and the many changes over more than 200 years\, west of what is now the Brixton Road. Join life-long Brixton resident\, Alan Piper\, on this fascinating walk. Alan will share his personal memories of some of the buildings now gone and his incredible knowledge of the history of the area. \nFree but booking essential via Eventbrite here \nIf the walk has sold out please contact marketwalks@brixtonsociety.org.uk to go on a waiting list.
URL:https://www.brixtonsociety.org.uk/event/heritage-walk-west-brixton-3/
LOCATION:Tunstall Road\, Tunstall Road\, London\, SW9
CATEGORIES:Heritage walk
END:VEVENT
END:VCALENDAR